BEGIN:VCALENDAR
VERSION:2.0
PRODID:-//Golden Gate University - ECPv6.15.15//NONSGML v1.0//EN
CALSCALE:GREGORIAN
METHOD:PUBLISH
X-ORIGINAL-URL:https://ggu.edu
X-WR-CALDESC:Events for Golden Gate University
REFRESH-INTERVAL;VALUE=DURATION:PT1H
X-Robots-Tag:noindex
X-PUBLISHED-TTL:PT1H
BEGIN:VTIMEZONE
TZID:America/Los_Angeles
BEGIN:DAYLIGHT
TZOFFSETFROM:-0800
TZOFFSETTO:-0700
TZNAME:PDT
DTSTART:20240310T100000
END:DAYLIGHT
BEGIN:STANDARD
TZOFFSETFROM:-0700
TZOFFSETTO:-0800
TZNAME:PST
DTSTART:20241103T090000
END:STANDARD
BEGIN:DAYLIGHT
TZOFFSETFROM:-0800
TZOFFSETTO:-0700
TZNAME:PDT
DTSTART:20250309T100000
END:DAYLIGHT
BEGIN:STANDARD
TZOFFSETFROM:-0700
TZOFFSETTO:-0800
TZNAME:PST
DTSTART:20251102T090000
END:STANDARD
BEGIN:DAYLIGHT
TZOFFSETFROM:-0800
TZOFFSETTO:-0700
TZNAME:PDT
DTSTART:20260308T100000
END:DAYLIGHT
BEGIN:STANDARD
TZOFFSETFROM:-0700
TZOFFSETTO:-0800
TZNAME:PST
DTSTART:20261101T090000
END:STANDARD
BEGIN:DAYLIGHT
TZOFFSETFROM:-0800
TZOFFSETTO:-0700
TZNAME:PDT
DTSTART:20270314T100000
END:DAYLIGHT
BEGIN:STANDARD
TZOFFSETFROM:-0700
TZOFFSETTO:-0800
TZNAME:PST
DTSTART:20271107T090000
END:STANDARD
END:VTIMEZONE
BEGIN:VEVENT
DTSTART;TZID=America/Los_Angeles:20260216T000000
DTEND;TZID=America/Los_Angeles:20260216T235959
DTSTAMP:20260420T013904
CREATED:20250115T203421Z
LAST-MODIFIED:20250115T203424Z
UID:10000021-1771200000-1771286399@ggu.edu
SUMMARY:President's Day Holiday
DESCRIPTION:The university will be closed on this date.
URL:https://ggu.edu/event/presidents-day-holiday/
LOCATION:Golden Gate University Campus\, 536 Mission St.\, San Francisco\, CA\, 94105\, United States
CATEGORIES:Holidays
ATTACH;FMTTYPE=image/png:https://ggu.edu/wp-content/uploads/2023/08/GGU_Web-Icons_Community-Events_v1_colored.png
END:VEVENT
BEGIN:VEVENT
DTSTART;TZID=America/Los_Angeles:20260119T000000
DTEND;TZID=America/Los_Angeles:20260119T235959
DTSTAMP:20260420T013904
CREATED:20250115T203323Z
LAST-MODIFIED:20250115T203325Z
UID:10000020-1768780800-1768867199@ggu.edu
SUMMARY:Martin Luther King Jr. Holiday
DESCRIPTION:The university will be closed on this date.
URL:https://ggu.edu/event/martin-luther-king-jr-holiday/
LOCATION:Golden Gate University Campus\, 536 Mission St.\, San Francisco\, CA\, 94105\, United States
CATEGORIES:Holidays
ATTACH;FMTTYPE=image/png:https://ggu.edu/wp-content/uploads/2023/08/GGU_Web-Icons_Community-Events_v1_colored.png
END:VEVENT
BEGIN:VEVENT
DTSTART;TZID=America/Los_Angeles:20260114T120000
DTEND;TZID=America/Los_Angeles:20260114T130000
DTSTAMP:20260420T013904
CREATED:20251203T222721Z
LAST-MODIFIED:20251203T223729Z
UID:10000251-1768392000-1768395600@ggu.edu
SUMMARY:Small Business Entrepreneurship Panel
DESCRIPTION:In-Person: Golden Gate University Library Commons\, 1st Floor | Virtual: Zoom \n\n        \n          \n  \n\n\n\n\n\n\n\n\n  \n  \n    \n                    \n           \nJoin us with Bay Area business leaders sharing their insights on important trends and opportunities shaping small businesses in 2026. \nWhether you’re an aspiring entrepreneur\, small business owner\, or simply passionate about innovation\, this event is an opportunity you won’t want to miss. \nJoin us for a compelling panel discussion featuring business and policy leaders who will share their insights on the most important trends\, challenges\, and opportunities shaping small businesses in 2026 and beyond. \nThis conversation will provide practical takeaways and forward-looking perspectives to help you navigate an evolving economic and technological environment. \nWhen: Wednesday\, January 14th\, 2026 | 12:00 PM – 1:00 PM \nWhere: GGU Library Common (Also available via Zoom with link provided upon registration). \nCost: Free\, though registration is required through Eventbrite. \nWhat to Expect During the Session \nThis interactive session will explore how new policies\, workforce dynamics\, and technologies are redefining small business strategy in 2026. The conversation will feature two rounds of expert dialogue followed by an open Q&A\, covering: \n\nInflation and Tariffs\n\n\nSBA Lending Rule Changes\n\n\nWorkforce of the Future\n\n\nSupply Chain Disruptions\n\n\nAI and Small Business\n\nWhy Attend? \n\nGain fresh\, practical strategies for today’s small business environment\n\n\nEngage directly with industry and government leaders\n\n\nConnect with fellow professionals\, students\, and entrepreneurs\n\nThis session offers a unique opportunity to exchange ideas\, expand your network\, and leave with strategies you can immediately apply to your business or career. \nWe look forward to having you join us for what promises to be an inspiring and insightful discussion.
URL:https://ggu.edu/event/small-business-entrepreneurship-panel/
LOCATION:Golden Gate University Campus\, 536 Mission St.\, San Francisco\, CA\, 94105\, United States
CATEGORIES:Insight Series
ATTACH;FMTTYPE=image/jpeg:https://ggu.edu/wp-content/uploads/2025/12/SAVE-THE-DATE-ACCESSIBILITY.jpg
END:VEVENT
BEGIN:VEVENT
DTSTART;TZID=America/Los_Angeles:20251127T000000
DTEND;TZID=America/Los_Angeles:20251128T235959
DTSTAMP:20260420T013904
CREATED:20250115T203035Z
LAST-MODIFIED:20250115T203136Z
UID:10000019-1764201600-1764374399@ggu.edu
SUMMARY:Thanksgiving Holiday
DESCRIPTION:The university will be closed on these dates.
URL:https://ggu.edu/event/thanksgiving-holiday/
LOCATION:Golden Gate University Campus\, 536 Mission St.\, San Francisco\, CA\, 94105\, United States
CATEGORIES:Holidays
ATTACH;FMTTYPE=image/png:https://ggu.edu/wp-content/uploads/2023/08/GGU_Web-Icons_Community-Events_v1_colored.png
END:VEVENT
BEGIN:VEVENT
DTSTART;TZID=America/Los_Angeles:20251119T160000
DTEND;TZID=America/Los_Angeles:20251119T180000
DTSTAMP:20260420T013904
CREATED:20251029T203015Z
LAST-MODIFIED:20251113T225429Z
UID:10000238-1763568000-1763575200@ggu.edu
SUMMARY:Write Your Way Forward
DESCRIPTION:Library Learning Commons \n\n        \n          \n  \n\n\n\n\n\n\n\n\n  \n  \n    \n                    \n          Write Your Way Forward: Journaling Your Career Path & Well-Being During Times of Economic Uncertainty \nIn a world of constant digital notifications along with economic uncertainty\, our career paths often feel more reactive than intentional. This workshop\, led by Nicole Jackson\, PhD\, invites participants to slow down\, reflect\, and rediscover the power of analog thinking through journaling and the power of connecting. \nThis event is hosted by the SHRM Club and the Career Center.
URL:https://ggu.edu/event/careers-in-hr-insights-employer-meet-up/
LOCATION:Golden Gate University Campus\, 536 Mission St.\, San Francisco\, CA\, 94105\, United States
CATEGORIES:Campus Week
ATTACH;FMTTYPE=image/png:https://ggu.edu/wp-content/uploads/2023/08/GGU_Web-Icons_Industry-Professional_v1_colored.png
END:VEVENT
BEGIN:VEVENT
DTSTART;TZID=America/Los_Angeles:20251111T000000
DTEND;TZID=America/Los_Angeles:20251111T235959
DTSTAMP:20260420T013904
CREATED:20250115T202629Z
LAST-MODIFIED:20250115T202631Z
UID:10000018-1762819200-1762905599@ggu.edu
SUMMARY:Veterans Day Holiday
DESCRIPTION:The university will be closed on this date.
URL:https://ggu.edu/event/veterans-day-holiday/
LOCATION:Golden Gate University Campus\, 536 Mission St.\, San Francisco\, CA\, 94105\, United States
CATEGORIES:Holidays
ATTACH;FMTTYPE=image/png:https://ggu.edu/wp-content/uploads/2023/08/GGU_Web-Icons_Community-Events_v1_colored.png
END:VEVENT
BEGIN:VEVENT
DTSTART;TZID=America/Los_Angeles:20251001T120000
DTEND;TZID=America/Los_Angeles:20251001T131500
DTSTAMP:20260420T013905
CREATED:20250904T185155Z
LAST-MODIFIED:20250910T184403Z
UID:10000184-1759320000-1759324500@ggu.edu
SUMMARY:Mind Over Money: A Financial Psychology
DESCRIPTION:Mind Over Money: A Financial Psychology\nOctober is Financial Planning month!  \nJoin us for an engaging panel discussion that explores the (sometimes) hidden psychological forces shaping your relationship with money. Bring your lunch (if you’d like) and your curiosity as our expert panelists unpack the emotional side of financial decision-making. \n\nWhen: Wednesday\, October 1st\nTime: 12:00 PM – 1:15 PM (15 mins of Q&A)\nWhere: Golden Gate University Library Commons\n\nAlso available via Zoom (link will be provided upon registration)\n\n\nCost: Free (but your insights are priceless!)\n\nRegistration is required through Eventbrite. \nWhat you’ll take away:\n\nRecognize your unique “money script” and how childhood experiences shape your current financial behaviors\nBreak through emotional spending triggers with practical mindfulness techniques you can use each day and with each $$ decision\nCraft a personalized financial action plan that aligns with your values\, not just your wallet\nOur panelists will kick things off with some eye-opening stories about their own money mindsets\, then we’ll open the floor for your questions and real-life scenarios. No judgment\, no financial jargon—just honest conversation about the psychology behind our financial choices.\n\nMeet Your Mind Over Money Guides\n🎩 Dr. Dave Yeske\, CFP®  \nFinancial Planning Wizard & Professor of Practical Magic at Golden Gate University \n🧠 Dr. Tom Wooldridge\, PsyD\, ABPP\, FIPA\, CEDS-C \nPsychologist\, Psychoanalyst & Emotional Cartographer of the Money Mind \n💡 Saundra Davis\, MSFP\, MCC\, APFC®\, FBS® as Moderator \nFinancial Coach\, Educator\, and All-Around Money Mindset Maven
URL:https://ggu.edu/event/mind-over-money-a-financial-psychology/
LOCATION:Golden Gate University Campus\, 536 Mission St.\, San Francisco\, CA\, 94105\, United States
CATEGORIES:Campus Week,Insight Series
ATTACH;FMTTYPE=image/jpeg:https://ggu.edu/wp-content/uploads/2025/09/Mind-Over-Money-Eventbrite-Presentation.jpg
END:VEVENT
BEGIN:VEVENT
DTSTART;TZID=America/Los_Angeles:20250704T000000
DTEND;TZID=America/Los_Angeles:20250704T235959
DTSTAMP:20260420T013905
CREATED:20250115T202421Z
LAST-MODIFIED:20250115T202423Z
UID:10000017-1751587200-1751673599@ggu.edu
SUMMARY:Independence Day Holiday
DESCRIPTION:The university will be closed on this date.
URL:https://ggu.edu/event/independence-day-holiday/
LOCATION:Golden Gate University Campus\, 536 Mission St.\, San Francisco\, CA\, 94105\, United States
CATEGORIES:Holidays
ATTACH;FMTTYPE=image/png:https://ggu.edu/wp-content/uploads/2023/08/GGU_Web-Icons_Community-Events_v1_colored.png
END:VEVENT
BEGIN:VEVENT
DTSTART;TZID=America/Los_Angeles:20250619T000000
DTEND;TZID=America/Los_Angeles:20250619T235959
DTSTAMP:20260420T013905
CREATED:20250115T202324Z
LAST-MODIFIED:20250115T202326Z
UID:10000016-1750291200-1750377599@ggu.edu
SUMMARY:Juneteenth Holiday
DESCRIPTION:The university will be closed on this date.
URL:https://ggu.edu/event/juneteenth-holiday/
LOCATION:Golden Gate University Campus\, 536 Mission St.\, San Francisco\, CA\, 94105\, United States
CATEGORIES:Holidays
ATTACH;FMTTYPE=image/png:https://ggu.edu/wp-content/uploads/2023/08/GGU_Web-Icons_Community-Events_v1_colored.png
END:VEVENT
BEGIN:VEVENT
DTSTART;TZID=America/Los_Angeles:20250605T173000
DTEND;TZID=America/Los_Angeles:20250605T203000
DTSTAMP:20260420T013905
CREATED:20250527T170116Z
LAST-MODIFIED:20250527T170154Z
UID:10000102-1749144600-1749155400@ggu.edu
SUMMARY:Brand to Demand: How to Build a Brand that Builds a Business
DESCRIPTION:Golden Gate University\, Library Commons \n\n        \n          \n  \n\n\n\n\n\n\n\n\n  \n  \n    \n                    \n           \nCo-hosted by AMA SF and Golden Gate University \nWhat happens when experienced marketers from B2B tech\, agencies\, and consultancies get real about brand building and growth? You get Brand to Demand\, a panel that’s all signal\, no fluff. \nJoin us on Thursday\, June 5 at Golden Gate University to hear from leaders who’ve built brand-to-demand engines and can show you what works. \nRegister Here \nIn today’s economy\, marketing is under pressure to prove value fast. But are we missing the forest for the trees? While performance marketing may seem more measurable\, it’s brand building that drives long-term growth\, customer loyalty\, and market differentiation. \nJoin AMA San Francisco for Brand to Demand — a dynamic panel event presented by StackAdapt\, co-hosted with Golden Gate University\, and sponsored by Navu — where we move past the buzzwords and dive into what really drives marketing impact. Hear directly from marketers across B2B tech\, agencies\, and consultancies who have successfully implemented brand-to-demand programs—from strategy to execution—and have the results to prove it. \nWhat You’ll Learn: \n\nWhy focusing only on short-term performance limits your long-term success\nReal-world case studies showing how brand building led to measurable growth\nHow leading marketers are educating internal stakeholders about the value of brand\nTips on tracking success across the entire funnel\, from awareness to revenue\n\nWho Should Attend:\nThis event is for marketers across the spectrum—digital\, traditional\, and integrated—with a special focus on those working in or with B2B tech brands. Whether you work at a brand\, an agency\, or a consultancy\, you’ll walk away with insights you can use right away. \nDon’t miss this chance to hear candid stories\, practical takeaways\, and proven results that bring the power of brand and demand together. \nLight bites and refreshments will be provided. \nModerator:\nChris Kilkes – Head of Growth\, Consultant \nPanelists:\nJakki Geiger – Founder\, 3x CMO\nSamantha Stuart – Senior Director\, Media Center of Excellence\nOmar Akhtar – Founder and Principal Analyst\, Benchmarker\nSanghita Majumder – Regional Vice President\, Client Services\, StackAdapt\nJohn Greely – VP of Marketing\, Navu \nThank You to the Sponsors and Partners\n\nPresenting Partner:\nStackAdapt – StackAdapt is a multi-channel programmatic advertising platform used by the most exceptional digital marketers. This state-of-the-art platform is where some of the most progressive work in machine learning meets cutting-edge user experience. Ad buyers plan\, execute\, and manage data-driven digital advertising campaigns across all devices\, inventory\, and publisher partners. \nGold Sponsor:\nNavu – Navu is the AI companion for B2B websites. The Navu Sidebar helps visitors get answers\, explore content\, and take action throughout their entire journey. It’s simple to set up\, works with any tech stack\, and runs on autopilot so marketers can convert more leads without extra effort. \nAnnual Partner:\nAnd thanks to our annual partner Workbox – Workbox designs and builds websites and custom apps for pharmaceutical companies and pharmaceutical marketing agencies. Est.1997. \nAccessibility / Accommodations:\nTo ensure accessibility for all participants\, AMA SF maintains a no-pets policy at our events. We recognize the essential role of service animals for individuals with disabilities and will make reasonable accommodations to support their participation.\nIf you have a disability and plan to attend with a service animal\, please contact us at info@amasf.org so we can discuss any specific needs or arrangements to facilitate accessibility for all attendees. \nRecording Notice:\nThis event will be professionally recorded. By attending\, you consent to potentially appear in video footage or photos that may be used by AMA SF and GGU for marketing or promotional purposes.
URL:https://ggu.edu/event/brand-to-demand/
LOCATION:Golden Gate University Campus\, 536 Mission St.\, San Francisco\, CA\, 94105\, United States
CATEGORIES:Insight Series
ATTACH;FMTTYPE=image/png:https://ggu.edu/wp-content/uploads/2025/05/Event1.png
END:VEVENT
BEGIN:VEVENT
DTSTART;TZID=America/Los_Angeles:20250526T000000
DTEND;TZID=America/Los_Angeles:20250526T235959
DTSTAMP:20260420T013905
CREATED:20250115T201110Z
LAST-MODIFIED:20250115T201112Z
UID:10000015-1748217600-1748303999@ggu.edu
SUMMARY:Memorial Day Holiday
DESCRIPTION:The university will be closed on this date.
URL:https://ggu.edu/event/memorial-day-holiday/
LOCATION:Golden Gate University Campus\, 536 Mission St.\, San Francisco\, CA\, 94105\, United States
CATEGORIES:Holidays
ATTACH;FMTTYPE=image/png:https://ggu.edu/wp-content/uploads/2023/08/GGU_Web-Icons_Community-Events_v1_colored.png
END:VEVENT
BEGIN:VEVENT
DTSTART;TZID=America/Los_Angeles:20250217T000000
DTEND;TZID=America/Los_Angeles:20250217T235959
DTSTAMP:20260420T013905
CREATED:20250115T200954Z
LAST-MODIFIED:20250115T200956Z
UID:10000014-1739750400-1739836799@ggu.edu
SUMMARY:President's Day Holiday (Observed)
DESCRIPTION:The university will be closed on this date.
URL:https://ggu.edu/event/presidents-day-holiday-observed/
LOCATION:Golden Gate University Campus\, 536 Mission St.\, San Francisco\, CA\, 94105\, United States
CATEGORIES:Holidays
ATTACH;FMTTYPE=image/png:https://ggu.edu/wp-content/uploads/2023/08/GGU_Web-Icons_Community-Events_v1_colored.png
END:VEVENT
BEGIN:VEVENT
DTSTART;TZID=America/Los_Angeles:20250203T000000
DTEND;TZID=America/Los_Angeles:20250207T235959
DTSTAMP:20260420T013905
CREATED:20250115T225731Z
LAST-MODIFIED:20250127T191613Z
UID:10000027-1738540800-1738972799@ggu.edu
SUMMARY:Campus Week – February 2025
DESCRIPTION:Golden Gate University Campus Week events take place throughout the year. They are fun opportunities to meet other GGU students\, alumni\, and faculty. Each campus week offers a variety of events for the GGU community — past events have included picnics in the park\, health and wellness events\, coffee socials\, career panels\, and more.
URL:https://ggu.edu/event/campus-week-february-2025/
LOCATION:Golden Gate University Campus\, 536 Mission St.\, San Francisco\, CA\, 94105\, United States
CATEGORIES:Campus Week
ATTACH;FMTTYPE=image/png:https://ggu.edu/wp-content/uploads/2023/08/GGU_Web-Icons_Community-Events_v2_colored.png
END:VEVENT
BEGIN:VEVENT
DTSTART;TZID=America/Los_Angeles:20250120T000000
DTEND;TZID=America/Los_Angeles:20250120T235959
DTSTAMP:20260420T013905
CREATED:20250115T200600Z
LAST-MODIFIED:20250115T205315Z
UID:10000013-1737331200-1737417599@ggu.edu
SUMMARY:Martin Luther King Jr. Holiday (Observed)
DESCRIPTION:The university will be closed on this date.
URL:https://ggu.edu/event/martin-luther-king-jr-holiday-observed/
LOCATION:Golden Gate University Campus\, 536 Mission St.\, San Francisco\, CA\, 94105\, United States
CATEGORIES:Holidays
ATTACH;FMTTYPE=image/png:https://ggu.edu/wp-content/uploads/2023/08/GGU_Web-Icons_Community-Events_v1_colored.png
END:VEVENT
END:VCALENDAR