BEGIN:VCALENDAR
VERSION:2.0
PRODID:-//Golden Gate University - ECPv6.15.15//NONSGML v1.0//EN
CALSCALE:GREGORIAN
METHOD:PUBLISH
X-ORIGINAL-URL:https://ggu.edu
X-WR-CALDESC:Events for Golden Gate University
REFRESH-INTERVAL;VALUE=DURATION:PT1H
X-Robots-Tag:noindex
X-PUBLISHED-TTL:PT1H
BEGIN:VTIMEZONE
TZID:America/Los_Angeles
BEGIN:DAYLIGHT
TZOFFSETFROM:-0800
TZOFFSETTO:-0700
TZNAME:PDT
DTSTART:20250309T100000
END:DAYLIGHT
BEGIN:STANDARD
TZOFFSETFROM:-0700
TZOFFSETTO:-0800
TZNAME:PST
DTSTART:20251102T090000
END:STANDARD
BEGIN:DAYLIGHT
TZOFFSETFROM:-0800
TZOFFSETTO:-0700
TZNAME:PDT
DTSTART:20260308T100000
END:DAYLIGHT
BEGIN:STANDARD
TZOFFSETFROM:-0700
TZOFFSETTO:-0800
TZNAME:PST
DTSTART:20261101T090000
END:STANDARD
BEGIN:DAYLIGHT
TZOFFSETFROM:-0800
TZOFFSETTO:-0700
TZNAME:PDT
DTSTART:20270314T100000
END:DAYLIGHT
BEGIN:STANDARD
TZOFFSETFROM:-0700
TZOFFSETTO:-0800
TZNAME:PST
DTSTART:20271107T090000
END:STANDARD
END:VTIMEZONE
BEGIN:VEVENT
DTSTART;TZID=America/Los_Angeles:20260114T120000
DTEND;TZID=America/Los_Angeles:20260114T130000
DTSTAMP:20260420T111657
CREATED:20251203T222721Z
LAST-MODIFIED:20251203T223729Z
UID:10000251-1768392000-1768395600@ggu.edu
SUMMARY:Small Business Entrepreneurship Panel
DESCRIPTION:In-Person: Golden Gate University Library Commons\, 1st Floor | Virtual: Zoom \n\n        \n          \n  \n\n\n\n\n\n\n\n\n  \n  \n    \n                    \n           \nJoin us with Bay Area business leaders sharing their insights on important trends and opportunities shaping small businesses in 2026. \nWhether you’re an aspiring entrepreneur\, small business owner\, or simply passionate about innovation\, this event is an opportunity you won’t want to miss. \nJoin us for a compelling panel discussion featuring business and policy leaders who will share their insights on the most important trends\, challenges\, and opportunities shaping small businesses in 2026 and beyond. \nThis conversation will provide practical takeaways and forward-looking perspectives to help you navigate an evolving economic and technological environment. \nWhen: Wednesday\, January 14th\, 2026 | 12:00 PM – 1:00 PM \nWhere: GGU Library Common (Also available via Zoom with link provided upon registration). \nCost: Free\, though registration is required through Eventbrite. \nWhat to Expect During the Session \nThis interactive session will explore how new policies\, workforce dynamics\, and technologies are redefining small business strategy in 2026. The conversation will feature two rounds of expert dialogue followed by an open Q&A\, covering: \n\nInflation and Tariffs\n\n\nSBA Lending Rule Changes\n\n\nWorkforce of the Future\n\n\nSupply Chain Disruptions\n\n\nAI and Small Business\n\nWhy Attend? \n\nGain fresh\, practical strategies for today’s small business environment\n\n\nEngage directly with industry and government leaders\n\n\nConnect with fellow professionals\, students\, and entrepreneurs\n\nThis session offers a unique opportunity to exchange ideas\, expand your network\, and leave with strategies you can immediately apply to your business or career. \nWe look forward to having you join us for what promises to be an inspiring and insightful discussion.
URL:https://ggu.edu/event/small-business-entrepreneurship-panel/
LOCATION:Golden Gate University Campus\, 536 Mission St.\, San Francisco\, CA\, 94105\, United States
CATEGORIES:Insight Series
ATTACH;FMTTYPE=image/jpeg:https://ggu.edu/wp-content/uploads/2025/12/SAVE-THE-DATE-ACCESSIBILITY.jpg
END:VEVENT
BEGIN:VEVENT
DTSTART;TZID=America/Los_Angeles:20260119T000000
DTEND;TZID=America/Los_Angeles:20260119T235959
DTSTAMP:20260420T111658
CREATED:20250115T203323Z
LAST-MODIFIED:20250115T203325Z
UID:10000020-1768780800-1768867199@ggu.edu
SUMMARY:Martin Luther King Jr. Holiday
DESCRIPTION:The university will be closed on this date.
URL:https://ggu.edu/event/martin-luther-king-jr-holiday/
LOCATION:Golden Gate University Campus\, 536 Mission St.\, San Francisco\, CA\, 94105\, United States
CATEGORIES:Holidays
ATTACH;FMTTYPE=image/png:https://ggu.edu/wp-content/uploads/2023/08/GGU_Web-Icons_Community-Events_v1_colored.png
END:VEVENT
BEGIN:VEVENT
DTSTART;TZID=America/Los_Angeles:20260121T080000
DTEND;TZID=America/Los_Angeles:20260121T170000
DTSTAMP:20260420T111658
CREATED:20250530T184018Z
LAST-MODIFIED:20250530T184020Z
UID:10000143-1768982400-1769014800@ggu.edu
SUMMARY:Holocaust Remembrance Day
DESCRIPTION:No upcoming events found.
URL:https://ggu.edu/event/holocaust-remembrance-day/
ATTACH;FMTTYPE=image/png:https://ggu.edu/wp-content/uploads/2023/08/GGU_Web-Icons_Campus-Events_v2_colored.png
END:VEVENT
END:VCALENDAR