BEGIN:VCALENDAR
VERSION:2.0
PRODID:-//Golden Gate University - ECPv6.15.15//NONSGML v1.0//EN
CALSCALE:GREGORIAN
METHOD:PUBLISH
X-ORIGINAL-URL:https://ggu.edu
X-WR-CALDESC:Events for Golden Gate University
REFRESH-INTERVAL;VALUE=DURATION:PT1H
X-Robots-Tag:noindex
X-PUBLISHED-TTL:PT1H
BEGIN:VTIMEZONE
TZID:America/Los_Angeles
BEGIN:DAYLIGHT
TZOFFSETFROM:-0800
TZOFFSETTO:-0700
TZNAME:PDT
DTSTART:20240310T100000
END:DAYLIGHT
BEGIN:STANDARD
TZOFFSETFROM:-0700
TZOFFSETTO:-0800
TZNAME:PST
DTSTART:20241103T090000
END:STANDARD
BEGIN:DAYLIGHT
TZOFFSETFROM:-0800
TZOFFSETTO:-0700
TZNAME:PDT
DTSTART:20250309T100000
END:DAYLIGHT
BEGIN:STANDARD
TZOFFSETFROM:-0700
TZOFFSETTO:-0800
TZNAME:PST
DTSTART:20251102T090000
END:STANDARD
BEGIN:DAYLIGHT
TZOFFSETFROM:-0800
TZOFFSETTO:-0700
TZNAME:PDT
DTSTART:20260308T100000
END:DAYLIGHT
BEGIN:STANDARD
TZOFFSETFROM:-0700
TZOFFSETTO:-0800
TZNAME:PST
DTSTART:20261101T090000
END:STANDARD
END:VTIMEZONE
BEGIN:VEVENT
DTSTART;TZID=America/Los_Angeles:20250916T000000
DTEND;TZID=America/Los_Angeles:20250916T235959
DTSTAMP:20260420T013759
CREATED:20250529T211615Z
LAST-MODIFIED:20250827T225604Z
UID:10000123-1757980800-1758067199@ggu.edu
SUMMARY:National Registered Voter Day
DESCRIPTION:1st Floor Lobby \n\n        \n          \n  \n\n\n\n\n\n\n\n\n  \n  \n    \n                    \n          Register to vote! In person or online. \nRegister to vote in your state | Vote.gov
URL:https://ggu.edu/event/national-registered-voter-day/
ATTACH;FMTTYPE=image/png:https://ggu.edu/wp-content/uploads/2023/08/GGU_Web-Icons_Campus-Events_v2_colored.png
END:VEVENT
BEGIN:VEVENT
DTSTART;TZID=America/Los_Angeles:20250917T120000
DTEND;TZID=America/Los_Angeles:20250917T130000
DTSTAMP:20260420T013800
CREATED:20250827T233134Z
LAST-MODIFIED:20250828T165119Z
UID:10000183-1758110400-1758114000@ggu.edu
SUMMARY:Constitution Day Online Panel Discussion
DESCRIPTION:We The People: Origins and Evolution of the U.S. Constitution\n            \n                            \n                    \n          Join us on September 17 at 12 pm PST on Zoom for a panel discussion about the US Constitution’s history\, Constitutional Law\, and learn how it applies to current events. \nCheck out the flyer below and join from this QR Code or the link above. \n \n \n\n        \n          \n  \n\n\n\n\n\n\n  \n  \n    \n                          \n          No upcoming events found.
URL:https://ggu.edu/event/constitution-day/
CATEGORIES:Clubs and Organizations
ATTACH;FMTTYPE=image/jpeg:https://ggu.edu/wp-content/uploads/2025/06/4thofJuly_16x9-scaled.jpg
END:VEVENT
BEGIN:VEVENT
DTSTART;TZID=America/Los_Angeles:20250918T000000
DTEND;TZID=America/Los_Angeles:20250918T235959
DTSTAMP:20260420T013800
CREATED:20250529T211103Z
LAST-MODIFIED:20250529T211206Z
UID:10000122-1758153600-1758239999@ggu.edu
SUMMARY:National Rice Krispie Treat Day
DESCRIPTION:1st Floor Lobby \n\n        \n          \n  \n\n\n\n\n\n\n\n\n  \n  \n    \n                    \n          Celebrate National Rice Krispie Treat Day with your Office of Student Life team. Grab a treat on your way to class… or just because. \nWhile supplies last.
URL:https://ggu.edu/event/national-rice-krispie-treat-day/
ATTACH;FMTTYPE=image/png:https://ggu.edu/wp-content/uploads/2023/08/GGU_Web-Icons_Campus-Events_v2_colored.png
END:VEVENT
BEGIN:VEVENT
DTSTART;TZID=America/Los_Angeles:20250918T120000
DTEND;TZID=America/Los_Angeles:20250918T193000
DTSTAMP:20260420T013800
CREATED:20250827T180729Z
LAST-MODIFIED:20250829T185804Z
UID:10000182-1758196800-1758223800@ggu.edu
SUMMARY:AMA SF Marketing Hackathon 2025
DESCRIPTION:Golden Gate University\, San Francisco \n\n        \n          \n  \n\n\n\n\n\n\n\n\n  \n  \n    \n                    \n           \n \nThe AMA SF Marketing Hackathon is officially back with another chance to elevate\, innovate\, and make an impact! \nThis unique event brings together marketing innovators and technical experts to provide cutting-edge marketing solutions for select non-profit partners. As a participant\, you will have the opportunity to: \n\nGain practical experience in social media\, SEM\, and email marketing by working on real-world projects\nParticipate in interactive workshops with fellow marketers and industry leaders\nLeverage your expertise to build solutions that support non-profit organizations in our community\n\nFor more information\, visit our Hackathon page or email us at hackathon@amasf.org.
URL:https://ggu.edu/event/ama-sf-marketing-hackathon-2025/
ATTACH;FMTTYPE=image/jpeg:https://ggu.edu/wp-content/uploads/2025/08/AMA-IS-Banner-no-dates.jpg
END:VEVENT
BEGIN:VEVENT
DTSTART;TZID=America/Los_Angeles:20250929T000000
DTEND;TZID=America/Los_Angeles:20251004T235959
DTSTAMP:20260420T013800
CREATED:20250115T195855Z
LAST-MODIFIED:20250924T180542Z
UID:10000011-1759104000-1759622399@ggu.edu
SUMMARY:Campus Week – September/October 2025
DESCRIPTION:Golden Gate University Campus Week events take place throughout the year. They are fun opportunities to meet other GGU students\, alumni\, and faculty. Each campus week offers a variety of events for the GGU community — past events have included picnics in the park\, health and wellness events\, coffee socials\, career panels\, and more.
URL:https://ggu.edu/event/campus-week-july-2025-2/
CATEGORIES:Campus Week
ATTACH;FMTTYPE=image/png:https://ggu.edu/wp-content/uploads/2023/08/GGU_Web-Icons_Community-Events_v2_colored.png
END:VEVENT
BEGIN:VEVENT
DTSTART;TZID=America/Los_Angeles:20250929T100000
DTEND;TZID=America/Los_Angeles:20250929T110000
DTSTAMP:20260420T013800
CREATED:20250529T212128Z
LAST-MODIFIED:20250910T172716Z
UID:10000124-1759140000-1759143600@ggu.edu
SUMMARY:National Coffee Day
DESCRIPTION:2nd Floor Lobby \n\n        \n          \n  \n\n\n\n\n\n\n\n\n  \n  \n    \n                    \n          Coffee drinkers unite! Taste test different blends\, learn the difference between a latte and a flat white\, and play coffee trivia for prizes.
URL:https://ggu.edu/event/national-coffee-day/
CATEGORIES:Campus Week
ATTACH;FMTTYPE=image/png:https://ggu.edu/wp-content/uploads/2023/08/GGU_Web-Icons_Cafe_colored.png
END:VEVENT
BEGIN:VEVENT
DTSTART;TZID=America/Los_Angeles:20250929T110000
DTEND;TZID=America/Los_Angeles:20250929T140000
DTSTAMP:20260420T013800
CREATED:20250917T171536Z
LAST-MODIFIED:20250917T171539Z
UID:10000205-1759143600-1759154400@ggu.edu
SUMMARY:Pacific Credit Union
DESCRIPTION:3rd Floor Lobby \n\n        \n          \n  \n\n\n\n\n\n\n\n\n  \n  \n    \n                    \n          Pacific Credit Union is back with prizes and information about banking.
URL:https://ggu.edu/event/pacific-credit-union/
CATEGORIES:Campus Week
ATTACH;FMTTYPE=image/png:https://ggu.edu/wp-content/uploads/2023/08/GGU_Web-Icons_Affordable_colored.png
END:VEVENT
BEGIN:VEVENT
DTSTART;TZID=America/Los_Angeles:20250929T140000
DTEND;TZID=America/Los_Angeles:20250929T150000
DTSTAMP:20260420T013800
CREATED:20250917T172510Z
LAST-MODIFIED:20250924T155541Z
UID:10000207-1759154400-1759158000@ggu.edu
SUMMARY:Landing Your First Tech Job: Ask a Senior Recruiter
DESCRIPTION:Room 3203 \n\n        \n          \n  \n\n\n\n\n\n\n\n\n  \n  \n    \n                    \n          Join a Senior Tech Recruiter Q&A! Learn to pass ATS\, craft standout resumes\, ace interviews\, leverage LinkedIn\, and network to land internships or full-time tech roles.
URL:https://ggu.edu/event/landing-your-first-tech-job-ask-a-senior-recruiter/
CATEGORIES:Campus Week
ATTACH;FMTTYPE=image/png:https://ggu.edu/wp-content/uploads/2023/08/GGU_Web-Icons_Students-at-table_colored.png
END:VEVENT
BEGIN:VEVENT
DTSTART;TZID=America/Los_Angeles:20250929T140000
DTEND;TZID=America/Los_Angeles:20250929T150000
DTSTAMP:20260420T013800
CREATED:20250924T155327Z
LAST-MODIFIED:20250924T155332Z
UID:10000215-1759154400-1759158000@ggu.edu
SUMMARY:My Journey: Launching an AI Startup as an International Student
DESCRIPTION:Room 2202 \n\n        \n          \n  \n\n\n\n\n\n\n\n\n  \n  \n    \n                    \n          In this talk\, Prof. Nikita Tkachenko shares his journey of building an AI startup\, Evalyn.ai\, while navigating life as an international student.
URL:https://ggu.edu/event/my-journey-launching-ai-startup-international-student/
CATEGORIES:Campus Week
ATTACH;FMTTYPE=image/png:https://ggu.edu/wp-content/uploads/2023/08/GGU_Web-Icons_Student-Orientation_colored.png
END:VEVENT
BEGIN:VEVENT
DTSTART;TZID=America/Los_Angeles:20250929T140000
DTEND;TZID=America/Los_Angeles:20250929T160000
DTSTAMP:20260420T013800
CREATED:20250910T172853Z
LAST-MODIFIED:20250917T172110Z
UID:10000185-1759154400-1759161600@ggu.edu
SUMMARY:Diller Center Presents: "Rep Your State" Snack & Chat
DESCRIPTION:4th Floor Lobby \n\n        \n          \n  \n\n\n\n\n\n\n\n\n  \n  \n    \n                    \n          Come represent your state on our Vet Map\, while you enjoy a snack and check in with your Diller Center Team.
URL:https://ggu.edu/event/diller-center-presents-rep-your-state-snack-chat/
CATEGORIES:Campus Week
ATTACH;FMTTYPE=image/png:https://ggu.edu/wp-content/uploads/2023/08/GGU_Web-Icons_Networking_orange.png
END:VEVENT
BEGIN:VEVENT
DTSTART;TZID=America/Los_Angeles:20250929T160000
DTEND;TZID=America/Los_Angeles:20250929T170000
DTSTAMP:20260420T013800
CREATED:20250917T172126Z
LAST-MODIFIED:20250917T172129Z
UID:10000206-1759161600-1759165200@ggu.edu
SUMMARY:Music & Dance Club Presents
DESCRIPTION:GGU Center \n\n        \n          \n  \n\n\n\n\n\n\n\n\n  \n  \n    \n                    \n          GGU students perform music and dance.
URL:https://ggu.edu/event/music-dance-club-presents/
CATEGORIES:Campus Week
ATTACH;FMTTYPE=image/png:https://ggu.edu/wp-content/uploads/2023/08/GGU_Web-Icons_Student-Experience_colored.png
END:VEVENT
BEGIN:VEVENT
DTSTART;TZID=America/Los_Angeles:20250930T100000
DTEND;TZID=America/Los_Angeles:20250930T160000
DTSTAMP:20260420T013800
CREATED:20250910T174812Z
LAST-MODIFIED:20250910T174816Z
UID:10000187-1759226400-1759248000@ggu.edu
SUMMARY:Prostate Cancer Awareness Month Celebration
DESCRIPTION:1st Floor Lobby \n\n        \n          \n  \n\n\n\n\n\n\n\n\n  \n  \n    \n                    \n          Join us for a celebration in recognition of National Prostate Cancer Awareness Month.
URL:https://ggu.edu/event/prostate-cancer-awareness-month-celebration/
CATEGORIES:Campus Week
ATTACH;FMTTYPE=image/png:https://ggu.edu/wp-content/uploads/2023/08/GGU_Web-Icons_Community-Events_v1_colored.png
END:VEVENT
BEGIN:VEVENT
DTSTART;TZID=America/Los_Angeles:20250930T120000
DTEND;TZID=America/Los_Angeles:20250930T130000
DTSTAMP:20260420T013800
CREATED:20250910T174045Z
LAST-MODIFIED:20250910T174047Z
UID:10000186-1759233600-1759237200@ggu.edu
SUMMARY:CBI Presents: "Tech Jobs in an Economy Without an Entry Level" by Steve Walker\, CEO of Cobaltix
DESCRIPTION:Room 3208 \n\n        \n          \n  \n\n\n\n\n\n\n\n\n  \n  \n    \n                    \n          Degrees alone don’t secure jobs today. To land one\, think differently—showcase real skills\, adaptability\, and stand out as the problem-solver employers truly seek.
URL:https://ggu.edu/event/cbi-presents-tech-jobs-in-an-economy-without-an-entry-level/
CATEGORIES:Campus Week
ATTACH;FMTTYPE=image/png:https://ggu.edu/wp-content/uploads/2023/08/GGU_Web-Icons_Teacher-Presenting_colored.png
END:VEVENT
BEGIN:VEVENT
DTSTART;TZID=America/Los_Angeles:20250930T130000
DTEND;TZID=America/Los_Angeles:20250930T150000
DTSTAMP:20260420T013800
CREATED:20250910T182504Z
LAST-MODIFIED:20250910T193146Z
UID:10000188-1759237200-1759244400@ggu.edu
SUMMARY:Community Meal
DESCRIPTION:2nd Floor Lobby \n\n        \n          \n  \n\n\n\n\n\n\n\n\n  \n  \n    \n                    \n          Wings and Things — Pick up a plate of wings on your way to class.
URL:https://ggu.edu/event/community-meal-pickup/
CATEGORIES:Campus Week
ATTACH;FMTTYPE=image/png:https://ggu.edu/wp-content/uploads/2023/08/GGU_Web-Icons_Community-Events_v2_colored.png
END:VEVENT
BEGIN:VEVENT
DTSTART;TZID=America/Los_Angeles:20250930T140000
DTEND;TZID=America/Los_Angeles:20250930T160000
DTSTAMP:20260420T013800
CREATED:20250910T182813Z
LAST-MODIFIED:20250910T182816Z
UID:10000189-1759240800-1759248000@ggu.edu
SUMMARY:Amtrak Display
DESCRIPTION:3rd Floor Lobby \n\n        \n          \n  \n\n\n\n\n\n\n\n\n  \n  \n    \n                    \n          Amtrak will give info on their services and have giveaways.
URL:https://ggu.edu/event/amtrak-display/
CATEGORIES:Campus Week
ATTACH;FMTTYPE=image/png:https://ggu.edu/wp-content/uploads/2023/08/GGU_Web-Icons_Campus-Events_v2_colored.png
END:VEVENT
BEGIN:VEVENT
DTSTART;TZID=America/Los_Angeles:20250930T140000
DTEND;TZID=America/Los_Angeles:20250930T160000
DTSTAMP:20260420T013800
CREATED:20250910T183233Z
LAST-MODIFIED:20250910T183348Z
UID:10000190-1759240800-1759248000@ggu.edu
SUMMARY:Down for a Donut with the Diller Center?
DESCRIPTION:4th Floor Lobby \n\n        \n          \n  \n\n\n\n\n\n\n\n\n  \n  \n    \n                    \n          Come enjoy a donut and beverage with us while you check in with your Diller Center team!
URL:https://ggu.edu/event/down-for-a-donut-with-the-diller-center/
CATEGORIES:Campus Week
ATTACH;FMTTYPE=image/png:https://ggu.edu/wp-content/uploads/2023/08/GGU_Web-Icons_Community_colored.png
END:VEVENT
BEGIN:VEVENT
DTSTART;TZID=America/Los_Angeles:20250930T150000
DTEND;TZID=America/Los_Angeles:20250930T160000
DTSTAMP:20260420T013800
CREATED:20250910T185832Z
LAST-MODIFIED:20250917T172644Z
UID:10000193-1759244400-1759248000@ggu.edu
SUMMARY:Refresh & Reset: Yoga with Eden
DESCRIPTION:GGU Center \n\n        \n          \n  \n\n\n\n\n\n\n\n\n  \n  \n    \n                    \n          Unwind with a gentle\, restorative flow led by our academic advisor\, Eden. All levels welcome. Mats provided — just bring yourself!
URL:https://ggu.edu/event/refresh-reset-yoga-with-eden-2/
CATEGORIES:Campus Week
ATTACH;FMTTYPE=image/png:https://ggu.edu/wp-content/uploads/2023/08/GGU_Web-Icons_Student-Club_v1_colored-247.png
END:VEVENT
BEGIN:VEVENT
DTSTART;TZID=America/Los_Angeles:20250930T160000
DTEND;TZID=America/Los_Angeles:20250930T180000
DTSTAMP:20260420T013800
CREATED:20250910T183619Z
LAST-MODIFIED:20250910T183621Z
UID:10000191-1759248000-1759255200@ggu.edu
SUMMARY:GGU ASQ Student Club & GGU Global Supply Chain Opportunities
DESCRIPTION:Room 3201 \n\n        \n          \n  \n\n\n\n\n\n\n\n\n  \n  \n    \n                    \n          GGU ASQ Student Club and Global Supply Chain Introduction to career planning and opportunities.
URL:https://ggu.edu/event/ggu-asq-student-club-ggu-global-supply-chain-opportunities/
CATEGORIES:Campus Week
ATTACH;FMTTYPE=image/png:https://ggu.edu/wp-content/uploads/2023/08/GGU_Web-Icons_Industry-Professional_v2_colored.png
END:VEVENT
END:VCALENDAR