BEGIN:VCALENDAR
VERSION:2.0
PRODID:-//Golden Gate University - ECPv6.15.15//NONSGML v1.0//EN
CALSCALE:GREGORIAN
METHOD:PUBLISH
X-WR-CALNAME:Golden Gate University
X-ORIGINAL-URL:https://ggu.edu
X-WR-CALDESC:Events for Golden Gate University
REFRESH-INTERVAL;VALUE=DURATION:PT1H
X-Robots-Tag:noindex
X-PUBLISHED-TTL:PT1H
BEGIN:VTIMEZONE
TZID:America/Los_Angeles
BEGIN:DAYLIGHT
TZOFFSETFROM:-0800
TZOFFSETTO:-0700
TZNAME:PDT
DTSTART:20240310T100000
END:DAYLIGHT
BEGIN:STANDARD
TZOFFSETFROM:-0700
TZOFFSETTO:-0800
TZNAME:PST
DTSTART:20241103T090000
END:STANDARD
BEGIN:DAYLIGHT
TZOFFSETFROM:-0800
TZOFFSETTO:-0700
TZNAME:PDT
DTSTART:20250309T100000
END:DAYLIGHT
BEGIN:STANDARD
TZOFFSETFROM:-0700
TZOFFSETTO:-0800
TZNAME:PST
DTSTART:20251102T090000
END:STANDARD
BEGIN:DAYLIGHT
TZOFFSETFROM:-0800
TZOFFSETTO:-0700
TZNAME:PDT
DTSTART:20260308T100000
END:DAYLIGHT
BEGIN:STANDARD
TZOFFSETFROM:-0700
TZOFFSETTO:-0800
TZNAME:PST
DTSTART:20261101T090000
END:STANDARD
END:VTIMEZONE
BEGIN:VEVENT
DTSTART;TZID=America/Los_Angeles:20250721T100000
DTEND;TZID=America/Los_Angeles:20250721T120000
DTSTAMP:20260420T203400
CREATED:20250702T170928Z
LAST-MODIFIED:20250702T171410Z
UID:10000144-1753092000-1753099200@ggu.edu
SUMMARY:Service Project — Craft For Your Local Shelters Day
DESCRIPTION:Room 3209 \n\n        \n          \n  \n\n\n\n\n\n\n\n\n  \n  \n    \n                    \n          Service Project Drop In — Make simple crafts that will benefit the SF SPCA animal shelter. We have materials for pet blankets\, scratchers\, and tug toys kits to make.
URL:https://ggu.edu/event/service-project-craft-for-your-local-shelters-day/
CATEGORIES:Campus Week
ATTACH;FMTTYPE=image/png:https://ggu.edu/wp-content/uploads/2023/08/GGU_Web-Icons_Community-Events_v1_colored.png
END:VEVENT
BEGIN:VEVENT
DTSTART;TZID=America/Los_Angeles:20250721T000000
DTEND;TZID=America/Los_Angeles:20250725T235959
DTSTAMP:20260420T203401
CREATED:20250115T195718Z
LAST-MODIFIED:20250115T225123Z
UID:10000010-1753056000-1753487999@ggu.edu
SUMMARY:Campus Week – July 2025
DESCRIPTION:Golden Gate University Campus Week events take place throughout the year. They are fun opportunities to meet other GGU students\, alumni\, and faculty. Each campus week offers a variety of events for the GGU community — past events have included picnics in the park\, health and wellness events\, coffee socials\, career panels\, and more.
URL:https://ggu.edu/event/campus-week-july-2025/
CATEGORIES:Campus Week
ATTACH;FMTTYPE=image/png:https://ggu.edu/wp-content/uploads/2023/08/GGU_Web-Icons_Community-Events_v2_colored.png
END:VEVENT
BEGIN:VEVENT
DTSTART;TZID=America/Los_Angeles:20250715T000000
DTEND;TZID=America/Los_Angeles:20250715T235959
DTSTAMP:20260420T203401
CREATED:20250529T204911Z
LAST-MODIFIED:20250529T205134Z
UID:10000116-1752537600-1752623999@ggu.edu
SUMMARY:National Gummi Worm Day
DESCRIPTION:1st Floor Lobby \n\n        \n          \n  \n\n\n\n\n\n\n\n\n  \n  \n    \n                    \n          Celebrate National Gummi Worm Day with your Office of Student Life team. Grab a pack of gummi worms on your way to class… or just because. \nWhile supplies last.
URL:https://ggu.edu/event/national-gummi-worm-day/
ATTACH;FMTTYPE=image/png:https://ggu.edu/wp-content/uploads/2023/08/GGU_Web-Icons_Campus-Events_v2_colored.png
END:VEVENT
BEGIN:VEVENT
DTSTART;TZID=America/Los_Angeles:20250708T120000
DTEND;TZID=America/Los_Angeles:20250708T123000
DTSTAMP:20260420T203401
CREATED:20250519T172313Z
LAST-MODIFIED:20250519T172316Z
UID:10000089-1751976000-1751977800@ggu.edu
SUMMARY:Info Session: MS in Taxation Programs
DESCRIPTION:Join us for a 30-minute information session on Golden Gate University’s Master of Science in Taxation and Master of Science in Taxation with a Concentration in Technology and Analytics. \nWhether you’re an experienced tax professional or entering the field\, this session will provide an overview of both programs—each designed to deepen your technical expertise and expand your career opportunities in public accounting\, industry\, government\, or private practice. \nWe’ll explore curriculum highlights\, learning outcomes\, and how the Technology and Analytics concentration adds a critical focus on data\, automation\, and emerging tax technologies. You’ll also learn about admissions requirements\, tuition details\, and important application deadlines. \nThe program director will be available to share insights and answer your questions. Don’t miss this opportunity to see how GGU’s tax programs can help you advance in a rapidly evolving profession.
URL:https://ggu.edu/event/info-session-ms-in-taxation-programs/
CATEGORIES:Info Session
ATTACH;FMTTYPE=image/png:https://ggu.edu/wp-content/uploads/2025/03/Ms-in-Taxation.png
END:VEVENT
BEGIN:VEVENT
DTSTART;TZID=America/Los_Angeles:20250707T000000
DTEND;TZID=America/Los_Angeles:20250707T235959
DTSTAMP:20260420T203401
CREATED:20250529T204630Z
LAST-MODIFIED:20250529T205156Z
UID:10000115-1751846400-1751932799@ggu.edu
SUMMARY:World Chocolate Day
DESCRIPTION:1st Floor Lobby \n\n        \n          \n  \n\n\n\n\n\n\n\n\n  \n  \n    \n                    \n          Celebrate World Chocolate Day with your Office of Student Life team. Grab a chocolate on your way to class… or just because. \nWhile supplies last.
URL:https://ggu.edu/event/world-chocolate-day/
ATTACH;FMTTYPE=image/png:https://ggu.edu/wp-content/uploads/2023/08/GGU_Web-Icons_Campus-Events_v2_colored.png
END:VEVENT
BEGIN:VEVENT
DTSTART;TZID=America/Los_Angeles:20250704T000000
DTEND;TZID=America/Los_Angeles:20250704T235959
DTSTAMP:20260420T203401
CREATED:20250115T202421Z
LAST-MODIFIED:20250115T202423Z
UID:10000017-1751587200-1751673599@ggu.edu
SUMMARY:Independence Day Holiday
DESCRIPTION:The university will be closed on this date.
URL:https://ggu.edu/event/independence-day-holiday/
LOCATION:Golden Gate University Campus\, 536 Mission St.\, San Francisco\, CA\, 94105\, United States
CATEGORIES:Holidays
ATTACH;FMTTYPE=image/png:https://ggu.edu/wp-content/uploads/2023/08/GGU_Web-Icons_Community-Events_v1_colored.png
END:VEVENT
BEGIN:VEVENT
DTSTART;TZID=America/Los_Angeles:20250703T120000
DTEND;TZID=America/Los_Angeles:20250703T150000
DTSTAMP:20260420T203401
CREATED:20250529T165427Z
LAST-MODIFIED:20250529T165429Z
UID:10000114-1751544000-1751554800@ggu.edu
SUMMARY:Independence Day BBQ
DESCRIPTION:Plaza \n\n        \n          \n  \n\n\n\n\n\n\n\n\n  \n  \n    \n                    \n          Join the DSS team to celebrate Independence Day with a BBQ. Burgers and hot dogs\, potato salad\, pies—we have it all. \nPlease register to attend!
URL:https://ggu.edu/event/independence-day-bbq/
ATTACH;FMTTYPE=image/jpeg:https://ggu.edu/wp-content/uploads/2025/02/America-Flag-scaled.jpeg
END:VEVENT
BEGIN:VEVENT
DTSTART;TZID=America/Los_Angeles:20250619T000000
DTEND;TZID=America/Los_Angeles:20250619T235959
DTSTAMP:20260420T203401
CREATED:20250115T202324Z
LAST-MODIFIED:20250115T202326Z
UID:10000016-1750291200-1750377599@ggu.edu
SUMMARY:Juneteenth Holiday
DESCRIPTION:The university will be closed on this date.
URL:https://ggu.edu/event/juneteenth-holiday/
LOCATION:Golden Gate University Campus\, 536 Mission St.\, San Francisco\, CA\, 94105\, United States
CATEGORIES:Holidays
ATTACH;FMTTYPE=image/png:https://ggu.edu/wp-content/uploads/2023/08/GGU_Web-Icons_Community-Events_v1_colored.png
END:VEVENT
BEGIN:VEVENT
DTSTART;TZID=America/Los_Angeles:20250606T190000
DTEND;TZID=America/Los_Angeles:20250606T190000
DTSTAMP:20260420T203401
CREATED:20250528T190547Z
LAST-MODIFIED:20250528T190549Z
UID:10000113-1749236400-1749236400@ggu.edu
SUMMARY:DBA Symposium
DESCRIPTION:Virtual | Join via Zoom \n\n        \n          \n  \n\n\n\n\n\n\n\n\n  \n  \n    \n                    \n          The DBA Symposium provides a venue for the promising ideas of our DBA learners and aids them in honing their presentation skills.
URL:https://ggu.edu/event/dba-symposium-2/
CATEGORIES:Campus Week
ATTACH;FMTTYPE=image/png:https://ggu.edu/wp-content/uploads/2023/08/GGU_Web-Icons_Teacher-Presenting-Online_colored.png
END:VEVENT
BEGIN:VEVENT
DTSTART;TZID=America/Los_Angeles:20250606T112000
DTEND;TZID=America/Los_Angeles:20250606T112000
DTSTAMP:20260420T203401
CREATED:20250521T201012Z
LAST-MODIFIED:20250521T201200Z
UID:10000101-1749208800-1749208800@ggu.edu
SUMMARY:Aquarium of the Bay
DESCRIPTION:Register for more details. \n\n        \n          \n  \n\n\n\n\n\n\n\n\n  \n  \n    \n                    \n          Celebrate National Zoo and Aquarium Month with a trip to San Francisco’s Aquarium of the Bay. \nREGISTRATION IS REQUIRED.
URL:https://ggu.edu/event/aquarium-of-the-bay/
CATEGORIES:Campus Week
ATTACH;FMTTYPE=image/png:https://ggu.edu/wp-content/uploads/2023/08/GGU_Web-Icons_Community-Events_v1_colored.png
END:VEVENT
BEGIN:VEVENT
DTSTART;TZID=America/Los_Angeles:20250606T100000
DTEND;TZID=America/Los_Angeles:20250606T110000
DTSTAMP:20260420T203401
CREATED:20250514T170307Z
LAST-MODIFIED:20250514T170309Z
UID:10000086-1749204000-1749207600@ggu.edu
SUMMARY:National Donut Day
DESCRIPTION:Room 2333 \n\n        \n          \n  \n\n\n\n\n\n\n\n\n  \n  \n    \n                    \n          Come on by and grab a donut for National Donut Day!
URL:https://ggu.edu/event/national-donut-day/
CATEGORIES:Campus Week
ATTACH;FMTTYPE=image/png:https://ggu.edu/wp-content/uploads/2023/08/GGU_Web-Icons_Campus-Week-Celebration_colored.png
END:VEVENT
BEGIN:VEVENT
DTSTART;TZID=America/Los_Angeles:20250605T173000
DTEND;TZID=America/Los_Angeles:20250605T203000
DTSTAMP:20260420T203401
CREATED:20250527T170116Z
LAST-MODIFIED:20250527T170154Z
UID:10000102-1749144600-1749155400@ggu.edu
SUMMARY:Brand to Demand: How to Build a Brand that Builds a Business
DESCRIPTION:Golden Gate University\, Library Commons \n\n        \n          \n  \n\n\n\n\n\n\n\n\n  \n  \n    \n                    \n           \nCo-hosted by AMA SF and Golden Gate University \nWhat happens when experienced marketers from B2B tech\, agencies\, and consultancies get real about brand building and growth? You get Brand to Demand\, a panel that’s all signal\, no fluff. \nJoin us on Thursday\, June 5 at Golden Gate University to hear from leaders who’ve built brand-to-demand engines and can show you what works. \nRegister Here \nIn today’s economy\, marketing is under pressure to prove value fast. But are we missing the forest for the trees? While performance marketing may seem more measurable\, it’s brand building that drives long-term growth\, customer loyalty\, and market differentiation. \nJoin AMA San Francisco for Brand to Demand — a dynamic panel event presented by StackAdapt\, co-hosted with Golden Gate University\, and sponsored by Navu — where we move past the buzzwords and dive into what really drives marketing impact. Hear directly from marketers across B2B tech\, agencies\, and consultancies who have successfully implemented brand-to-demand programs—from strategy to execution—and have the results to prove it. \nWhat You’ll Learn: \n\nWhy focusing only on short-term performance limits your long-term success\nReal-world case studies showing how brand building led to measurable growth\nHow leading marketers are educating internal stakeholders about the value of brand\nTips on tracking success across the entire funnel\, from awareness to revenue\n\nWho Should Attend:\nThis event is for marketers across the spectrum—digital\, traditional\, and integrated—with a special focus on those working in or with B2B tech brands. Whether you work at a brand\, an agency\, or a consultancy\, you’ll walk away with insights you can use right away. \nDon’t miss this chance to hear candid stories\, practical takeaways\, and proven results that bring the power of brand and demand together. \nLight bites and refreshments will be provided. \nModerator:\nChris Kilkes – Head of Growth\, Consultant \nPanelists:\nJakki Geiger – Founder\, 3x CMO\nSamantha Stuart – Senior Director\, Media Center of Excellence\nOmar Akhtar – Founder and Principal Analyst\, Benchmarker\nSanghita Majumder – Regional Vice President\, Client Services\, StackAdapt\nJohn Greely – VP of Marketing\, Navu \nThank You to the Sponsors and Partners\n\nPresenting Partner:\nStackAdapt – StackAdapt is a multi-channel programmatic advertising platform used by the most exceptional digital marketers. This state-of-the-art platform is where some of the most progressive work in machine learning meets cutting-edge user experience. Ad buyers plan\, execute\, and manage data-driven digital advertising campaigns across all devices\, inventory\, and publisher partners. \nGold Sponsor:\nNavu – Navu is the AI companion for B2B websites. The Navu Sidebar helps visitors get answers\, explore content\, and take action throughout their entire journey. It’s simple to set up\, works with any tech stack\, and runs on autopilot so marketers can convert more leads without extra effort. \nAnnual Partner:\nAnd thanks to our annual partner Workbox – Workbox designs and builds websites and custom apps for pharmaceutical companies and pharmaceutical marketing agencies. Est.1997. \nAccessibility / Accommodations:\nTo ensure accessibility for all participants\, AMA SF maintains a no-pets policy at our events. We recognize the essential role of service animals for individuals with disabilities and will make reasonable accommodations to support their participation.\nIf you have a disability and plan to attend with a service animal\, please contact us at info@amasf.org so we can discuss any specific needs or arrangements to facilitate accessibility for all attendees. \nRecording Notice:\nThis event will be professionally recorded. By attending\, you consent to potentially appear in video footage or photos that may be used by AMA SF and GGU for marketing or promotional purposes.
URL:https://ggu.edu/event/brand-to-demand/
LOCATION:Golden Gate University Campus\, 536 Mission St.\, San Francisco\, CA\, 94105\, United States
CATEGORIES:Insight Series
ATTACH;FMTTYPE=image/png:https://ggu.edu/wp-content/uploads/2025/05/Event1.png
END:VEVENT
BEGIN:VEVENT
DTSTART;TZID=America/Los_Angeles:20250605T150000
DTEND;TZID=America/Los_Angeles:20250605T160000
DTSTAMP:20260420T203401
CREATED:20250528T190047Z
LAST-MODIFIED:20250528T190256Z
UID:10000112-1749135600-1749139200@ggu.edu
SUMMARY:PMISFBAC-NGL Kickoff Event
DESCRIPTION:Room 3208 \n\n        \n          \n  \n\n\n\n\n\n\n\n\n  \n  \n    \n                    \n          PMISFBAC’s Next Gen Leaders Program invites students to join our 2025 Experiential Learning Cohort to gain real-world experience\, innovate\, network\, and boost career growth.
URL:https://ggu.edu/event/pmisfbac-ngl-kickoff-event/
CATEGORIES:Campus Week
ATTACH;FMTTYPE=image/png:https://ggu.edu/wp-content/uploads/2023/08/GGU_Web-Icons_Class-Size_colored.png
END:VEVENT
BEGIN:VEVENT
DTSTART;TZID=America/Los_Angeles:20250605T140000
DTEND;TZID=America/Los_Angeles:20250605T160000
DTSTAMP:20260420T203401
CREATED:20250514T170027Z
LAST-MODIFIED:20250528T185601Z
UID:10000085-1749132000-1749139200@ggu.edu
SUMMARY:The Diller Center Presents Juneteenth Jeopardy
DESCRIPTION:Room 4200 \n\n        \n          \n  \n\n\n\n\n\n\n\n\n  \n  \n    \n                    \n          Come celebrate Juneteenth with us through fellowship and trivia!
URL:https://ggu.edu/event/the-diller-center-presents-juneteenth-jeopardy-2/
CATEGORIES:Campus Week
ATTACH;FMTTYPE=image/png:https://ggu.edu/wp-content/uploads/2023/08/GGU_Web-Icons_Student-Experience_colored.png
END:VEVENT
BEGIN:VEVENT
DTSTART;TZID=America/Los_Angeles:20250605T140000
DTEND;TZID=America/Los_Angeles:20250605T150000
DTSTAMP:20260420T203401
CREATED:20250528T185701Z
LAST-MODIFIED:20250528T185703Z
UID:10000111-1749132000-1749135600@ggu.edu
SUMMARY:Ice Cream Social
DESCRIPTION:Room 2333 \n\n        \n          \n  \n\n\n\n\n\n\n\n\n  \n  \n    \n                    \n          Join us for a sweet escape at our Ice Cream Social! Chill vines\, creamy delights\, and a sprinkle of fun await. Bring your sweet tooth because life is better with a scoop!
URL:https://ggu.edu/event/ice-cream-social/
CATEGORIES:Campus Week
ATTACH;FMTTYPE=image/png:https://ggu.edu/wp-content/uploads/2023/08/GGU_Web-Icons_Community-Events_v2_colored.png
END:VEVENT
BEGIN:VEVENT
DTSTART;TZID=America/Los_Angeles:20250605T130000
DTEND;TZID=America/Los_Angeles:20250605T140000
DTSTAMP:20260420T203401
CREATED:20250514T165548Z
LAST-MODIFIED:20250514T165550Z
UID:10000084-1749128400-1749132000@ggu.edu
SUMMARY:From Surviving to Thriving: Leadership in a Dynamically Changing World
DESCRIPTION:Room 3201 \n\n        \n          \n  \n\n\n\n\n\n\n\n\n  \n  \n    \n                    \n          A presentation exploring how leaders can move from merely surviving to thriving by embracing adaptability\, emotional intelligence\, and purpose in today’s rapidly changing world.
URL:https://ggu.edu/event/from-surviving-to-thriving-leadership-in-a-dynamically-changing-world/
CATEGORIES:Campus Week
ATTACH;FMTTYPE=image/png:https://ggu.edu/wp-content/uploads/2023/08/GGU_Web-Icons_On-Campus_v2_colored.png
END:VEVENT
BEGIN:VEVENT
DTSTART;TZID=America/Los_Angeles:20250605T120000
DTEND;TZID=America/Los_Angeles:20250605T133000
DTSTAMP:20260420T203401
CREATED:20250514T195301Z
LAST-MODIFIED:20250521T200710Z
UID:10000087-1749124800-1749130200@ggu.edu
SUMMARY:Resilient Job Seeker: Building a Growth Mindset
DESCRIPTION:Room 4204 \n\n        \n          \n  \n\n\n\n\n\n\n\n\n  \n  \n    \n                    \n          Boost your job search success by developing a growth mindset! In this workshop\, you’ll learn how to reframe challenges\, embrace continuous learning\, and build resilience in the job search.
URL:https://ggu.edu/event/resilient-job-seeker-building-a-growth-mindset/
CATEGORIES:Campus Week
ATTACH;FMTTYPE=image/png:https://ggu.edu/wp-content/uploads/2023/08/GGU_Web-Icons_Industry-Professional_v2_colored.png
END:VEVENT
BEGIN:VEVENT
DTSTART;TZID=America/Los_Angeles:20250604T160000
DTEND;TZID=America/Los_Angeles:20250604T173000
DTSTAMP:20260420T203401
CREATED:20250528T184527Z
LAST-MODIFIED:20250528T184704Z
UID:10000110-1749052800-1749058200@ggu.edu
SUMMARY:Finance Club: A Conversation With Wealth Managers
DESCRIPTION:Rooms 6208 & 6209 \n\n        \n          \n  \n\n\n\n\n\n\n\n\n  \n  \n    \n                    \n          Join us for a Finance Club speakers & networking event.
URL:https://ggu.edu/event/finance-club-a-conversation-with-wealth-managers/
CATEGORIES:Campus Week
ATTACH;FMTTYPE=image/png:https://ggu.edu/wp-content/uploads/2023/08/GGU_Web-Icons_Affordable_colored.png
END:VEVENT
BEGIN:VEVENT
DTSTART;TZID=America/Los_Angeles:20250604T140000
DTEND;TZID=America/Los_Angeles:20250604T160000
DTSTAMP:20260420T203401
CREATED:20250514T165315Z
LAST-MODIFIED:20250528T184102Z
UID:10000083-1749045600-1749052800@ggu.edu
SUMMARY:The Diller Center Presents Juneteenth Jeopardy
DESCRIPTION:Room 4200 \n\n        \n          \n  \n\n\n\n\n\n\n\n\n  \n  \n    \n                    \n          Come celebrate Juneteenth with us through fellowship and trivia!
URL:https://ggu.edu/event/the-diller-center-presents-juneteenth-jeopardy/
CATEGORIES:Campus Week
ATTACH;FMTTYPE=image/png:https://ggu.edu/wp-content/uploads/2023/08/GGU_Web-Icons_Student-Experience_colored.png
END:VEVENT
BEGIN:VEVENT
DTSTART;TZID=America/Los_Angeles:20250604T130000
DTEND;TZID=America/Los_Angeles:20250604T170000
DTSTAMP:20260420T203401
CREATED:20250514T164811Z
LAST-MODIFIED:20250514T170406Z
UID:10000082-1749042000-1749056400@ggu.edu
SUMMARY:SFVA Enrollments or Assistance
DESCRIPTION:Room 4200 \n\n        \n          \n  \n\n\n\n\n\n\n\n\n  \n  \n    \n                    \n          Enrolled in VA Healthcare? Need a VA ID Card? Have questions about the VA? Join us so we can assist!
URL:https://ggu.edu/event/sfva-enrollments-or-assistance-2/
CATEGORIES:Campus Week
ATTACH;FMTTYPE=image/png:https://ggu.edu/wp-content/uploads/2023/08/GGU_Web-Icons_QA_colored.png
END:VEVENT
BEGIN:VEVENT
DTSTART;TZID=America/Los_Angeles:20250604T130000
DTEND;TZID=America/Los_Angeles:20250604T140000
DTSTAMP:20260420T203401
CREATED:20250528T184006Z
LAST-MODIFIED:20250528T184008Z
UID:10000109-1749042000-1749045600@ggu.edu
SUMMARY:A Walk in the Park
DESCRIPTION:Meet at GGU Lobby and walk over to Salesforce Park. \n\n        \n          \n  \n\n\n\n\n\n\n\n\n  \n  \n    \n                    \n          Lace up your shoes and join us for a refreshing walk at Salesforce Park. It’s the perfect way to stretch your legs\, clear your mind\, and connect with good company one step at a time!
URL:https://ggu.edu/event/a-walk-in-the-park-2/
CATEGORIES:Campus Week
ATTACH;FMTTYPE=image/png:https://ggu.edu/wp-content/uploads/2023/08/GGU_Web-Icons_Community_colored.png
END:VEVENT
BEGIN:VEVENT
DTSTART;TZID=America/Los_Angeles:20250604T120000
DTEND;TZID=America/Los_Angeles:20250604T130000
DTSTAMP:20260420T203401
CREATED:20250528T183159Z
LAST-MODIFIED:20250528T183614Z
UID:10000108-1749038400-1749042000@ggu.edu
SUMMARY:AI-Shaped Future of Work
DESCRIPTION:Room 3208 \n\n        \n          \n  \n\n\n\n\n\n\n\n\n  \n  \n    \n                    \n          Join Larry Chao\, co-founder of Vita\, for a plain-spoken tour of how jobs have changed—and how they’re about to change again. The talk will start with a snapshot of today’s job market and look at the evolution of work as it migrated from artisans to corporations to today’s independent creators\, gig economy\, and s startups. Finally\, we’ll look ahead to the AI-shape future of work and how GenAI tools and AI agents can help anyone upskill\, standout\, or even run a “company of one.” The talk will cover practical tips and provide a picture of where your career can go in this AI-powered world.
URL:https://ggu.edu/event/ai-shaped-future-of-work/
CATEGORIES:Campus Week
ATTACH;FMTTYPE=image/png:https://ggu.edu/wp-content/uploads/2023/08/GGU_Web-Icons_Technology_colored.png
END:VEVENT
BEGIN:VEVENT
DTSTART;TZID=America/Los_Angeles:20250604T110000
DTEND;TZID=America/Los_Angeles:20250604T130000
DTSTAMP:20260420T203401
CREATED:20250528T182658Z
LAST-MODIFIED:20250528T182716Z
UID:10000107-1749034800-1749042000@ggu.edu
SUMMARY:Visit the GLBT Historical Society + Castro District
DESCRIPTION:Register for location details. \n\n        \n          \n  \n\n\n\n\n\n\n\n\n  \n  \n    \n                    \n          Celebrate Pride Month with a visit to the SF GLBT Historical Society Museum and Castro District! Explore LGBTQ+ history\, culture\, and community in one of San Francisco’s most iconic neighborhoods.
URL:https://ggu.edu/event/visit-the-glbt-historical-society-castro-district/
CATEGORIES:Campus Week
ATTACH;FMTTYPE=image/png:https://ggu.edu/wp-content/uploads/2023/08/GGU_Web-Icons_Campus-Events_v2_colored.png
END:VEVENT
BEGIN:VEVENT
DTSTART;TZID=America/Los_Angeles:20250603T140000
DTEND;TZID=America/Los_Angeles:20250603T170000
DTSTAMP:20260420T203401
CREATED:20250514T164028Z
LAST-MODIFIED:20250514T164250Z
UID:10000080-1748959200-1748970000@ggu.edu
SUMMARY:SFVA Enrollments or Assistance
DESCRIPTION:Room 4200 \n\n        \n          \n  \n\n\n\n\n\n\n\n\n  \n  \n    \n                    \n          Enrolled in VA Healthcare? Need a VA ID Card? Have questions about the VA? Join us so we can assist!
URL:https://ggu.edu/event/sfva-enrollments-or-assistance/
CATEGORIES:Campus Week
ATTACH;FMTTYPE=image/png:https://ggu.edu/wp-content/uploads/2023/08/GGU_Web-Icons_Students-at-table_colored.png
END:VEVENT
BEGIN:VEVENT
DTSTART;TZID=America/Los_Angeles:20250603T140000
DTEND;TZID=America/Los_Angeles:20250603T160000
DTSTAMP:20260420T203402
CREATED:20250514T164524Z
LAST-MODIFIED:20250521T200522Z
UID:10000081-1748959200-1748966400@ggu.edu
SUMMARY:SVA Chapter's Operation: MRE (Meet\, Refresh\, Engage)
DESCRIPTION:Plaza Lounge \n\n        \n          \n  \n\n\n\n\n\n\n\n\n  \n  \n    \n                    \n          Take a break\, grab a snack\, and connect with fellow students in the Veteran Lounge. Stop by\, recharge\, and meet your SVA Chapter. All are welcome!
URL:https://ggu.edu/event/sva-chapters-operation-mre-meet-refresh-engage/
CATEGORIES:Campus Week
ATTACH;FMTTYPE=image/png:https://ggu.edu/wp-content/uploads/2023/08/GGU_Web-Icons_Student-Club_v1_colored-247.png
END:VEVENT
BEGIN:VEVENT
DTSTART;TZID=America/Los_Angeles:20250603T140000
DTEND;TZID=America/Los_Angeles:20250603T160000
DTSTAMP:20260420T203402
CREATED:20250514T163727Z
LAST-MODIFIED:20250528T180449Z
UID:10000079-1748959200-1748966400@ggu.edu
SUMMARY:Diller Center Snack & Chat
DESCRIPTION:4th Floor Lobby \n\n        \n          \n  \n\n\n\n\n\n\n\n\n  \n  \n    \n                    \n          Enjoy a snack while you check in with your Diller Center Team.
URL:https://ggu.edu/event/diller-center-snack-chat-2/
CATEGORIES:Campus Week
ATTACH;FMTTYPE=image/png:https://ggu.edu/wp-content/uploads/2023/08/GGU_Web-Icons_Networking_orange.png
END:VEVENT
BEGIN:VEVENT
DTSTART;TZID=America/Los_Angeles:20250603T130000
DTEND;TZID=America/Los_Angeles:20250603T140000
DTSTAMP:20260420T203402
CREATED:20250528T182118Z
LAST-MODIFIED:20250528T182120Z
UID:10000106-1748955600-1748959200@ggu.edu
SUMMARY:SGA Election Interest Meeting
DESCRIPTION:Room 4214 \n\n        \n          \n  \n\n\n\n\n\n\n\n\n  \n  \n    \n                    \n          Thinking of running for an SGA Officer position in the Fall? Get answers to the questions you have about the election process for SGA Officer positions.
URL:https://ggu.edu/event/sga-election-interest-meeting/
CATEGORIES:Campus Week
ATTACH;FMTTYPE=image/png:https://ggu.edu/wp-content/uploads/2023/08/GGU_Web-Icons_Teacher-Presenting_colored.png
END:VEVENT
BEGIN:VEVENT
DTSTART;TZID=America/Los_Angeles:20250603T120000
DTEND;TZID=America/Los_Angeles:20250603T130000
DTSTAMP:20260420T203402
CREATED:20250528T181720Z
LAST-MODIFIED:20250528T181821Z
UID:10000105-1748952000-1748955600@ggu.edu
SUMMARY:Tour the Center for Business Innovation's New Interactive Portal
DESCRIPTION:Room 3201 \n\n        \n          \n  \n\n\n\n\n\n\n\n\n  \n  \n    \n                    \n          Take a tour of the Center for Business Innovation’s new portal and its features.
URL:https://ggu.edu/event/tour-the-center-for-business-innovations-new-interactive-portal/
CATEGORIES:Campus Week
ATTACH;FMTTYPE=image/png:https://ggu.edu/wp-content/uploads/2023/08/GGU_Web-Icons_Working-from-home_colored.png
END:VEVENT
BEGIN:VEVENT
DTSTART;TZID=America/Los_Angeles:20250603T120000
DTEND;TZID=America/Los_Angeles:20250603T130000
DTSTAMP:20260420T203402
CREATED:20250528T180831Z
LAST-MODIFIED:20250528T180834Z
UID:10000104-1748952000-1748955600@ggu.edu
SUMMARY:Let's Break Bread
DESCRIPTION:Second Floor\, Suite 2333 \n\n        \n          \n  \n\n\n\n\n\n\n\n\n  \n  \n    \n                    \n          Join us for a tasting of artisanal excellence locally baked\, and heartfully made. Rize Up Bakery uses locally sourced ingredients and the master baker kneads passion into each loaf!
URL:https://ggu.edu/event/lets-break-bread/
CATEGORIES:Campus Week
ATTACH;FMTTYPE=image/png:https://ggu.edu/wp-content/uploads/2023/08/GGU_Web-Icons_Community-Events_v1_colored.png
END:VEVENT
BEGIN:VEVENT
DTSTART;TZID=America/Los_Angeles:20250602T160000
DTEND;TZID=America/Los_Angeles:20250602T170000
DTSTAMP:20260420T203402
CREATED:20250514T163444Z
LAST-MODIFIED:20250514T164245Z
UID:10000078-1748880000-1748883600@ggu.edu
SUMMARY:Recruiter Q&A Session with Bernadette Lagman
DESCRIPTION:GGU Library \n\n        \n          \n  \n\n\n\n\n\n\n\n\n  \n  \n    \n                    \n          Meet Bernadette Lagman\, a seasoned recruiter who will share valuable tips on navigating a successful job search and standing out as a candidate.
URL:https://ggu.edu/event/recruiter-qa-session-with-bernadette-lagman/
CATEGORIES:Campus Week
ATTACH;FMTTYPE=image/png:https://ggu.edu/wp-content/uploads/2023/08/GGU_Web-Icons_Student-Orientation_colored.png
END:VEVENT
END:VCALENDAR