BEGIN:VCALENDAR
VERSION:2.0
PRODID:-//Golden Gate University - ECPv6.15.15//NONSGML v1.0//EN
CALSCALE:GREGORIAN
METHOD:PUBLISH
X-WR-CALNAME:Golden Gate University
X-ORIGINAL-URL:https://ggu.edu
X-WR-CALDESC:Events for Golden Gate University
REFRESH-INTERVAL;VALUE=DURATION:PT1H
X-Robots-Tag:noindex
X-PUBLISHED-TTL:PT1H
BEGIN:VTIMEZONE
TZID:America/Los_Angeles
BEGIN:DAYLIGHT
TZOFFSETFROM:-0800
TZOFFSETTO:-0700
TZNAME:PDT
DTSTART:20240310T100000
END:DAYLIGHT
BEGIN:STANDARD
TZOFFSETFROM:-0700
TZOFFSETTO:-0800
TZNAME:PST
DTSTART:20241103T090000
END:STANDARD
BEGIN:DAYLIGHT
TZOFFSETFROM:-0800
TZOFFSETTO:-0700
TZNAME:PDT
DTSTART:20250309T100000
END:DAYLIGHT
BEGIN:STANDARD
TZOFFSETFROM:-0700
TZOFFSETTO:-0800
TZNAME:PST
DTSTART:20251102T090000
END:STANDARD
BEGIN:DAYLIGHT
TZOFFSETFROM:-0800
TZOFFSETTO:-0700
TZNAME:PDT
DTSTART:20260308T100000
END:DAYLIGHT
BEGIN:STANDARD
TZOFFSETFROM:-0700
TZOFFSETTO:-0800
TZNAME:PST
DTSTART:20261101T090000
END:STANDARD
END:VTIMEZONE
BEGIN:VEVENT
DTSTART;TZID=America/Los_Angeles:20251015T123000
DTEND;TZID=America/Los_Angeles:20251015T130000
DTSTAMP:20260420T164739
CREATED:20250519T171231Z
LAST-MODIFIED:20250909T204020Z
UID:10000095-1760531400-1760533200@ggu.edu
SUMMARY:Info Session: Master of Business Administration
DESCRIPTION:Join us for a 30-minute virtual info session on Golden Gate University’s MBA program. \nGGU’s MBA enhances leadership\, strategic thinking\, and business acumen to prepare graduates to thrive in complex and evolving business environments. Whether you’re looking to accelerate your current career or pivot into a new field\, our program offers the flexibility and real-world relevance you need. \nOpen to individuals from all academic backgrounds\, the MBA program emphasizes hands-on\, skill-based learning that integrates core business disciplines with vital soft skills\, such as executive communication and team leadership. With flexible online and hybrid course formats\, it’s ideal for working professionals seeking to balance their studies with other commitments. \nDuring this session\, you’ll hear from program leadership\, get details on admissions and deadlines\, and have a chance to ask questions. Don’t miss this opportunity to take the next step in your professional journey with GGU’s MBA. Register today!
URL:https://ggu.edu/event/info-session-mba/
CATEGORIES:Info Session
ATTACH;FMTTYPE=image/jpeg:https://ggu.edu/wp-content/uploads/2025/09/1280x720-MBA.jpg
END:VEVENT
BEGIN:VEVENT
DTSTART;TZID=America/Los_Angeles:20251015T120000
DTEND;TZID=America/Los_Angeles:20251015T123000
DTSTAMP:20260420T164740
CREATED:20250519T163320Z
LAST-MODIFIED:20250909T202426Z
UID:10000091-1760529600-1760531400@ggu.edu
SUMMARY:Info Session: Psychology Programs
DESCRIPTION:Join us for a 30-minute virtual info session to explore Golden Gate University’s MA in Counseling Psychology and Industrial-Organizational Psychology programs. \nDiscover how GGU’s Counseling Psychology programs prepare students for MFT licensure with a holistic\, person-centered approach. Our rigorous curriculum blends real-world training with a strategic partnership with the Psychotherapy Action Network\, bringing leading-edge mental health advocacy into the classroom. With flexible learning formats\, personalized faculty support\, and comprehensive traineeship guidance\, GGU equips you to grow both professionally and personally. \nThe program director will share insights and answer your questions about admissions\, tuition\, and deadlines. Don’t miss this chance to discover how GGU can support your path to becoming a licensed therapist. Register today and take the next step in your counseling career.
URL:https://ggu.edu/event/info-session-psychology-programs/
CATEGORIES:Info Session
ATTACH;FMTTYPE=image/jpeg:https://ggu.edu/wp-content/uploads/2025/09/1280x720-Psychology-Programs.jpg
END:VEVENT
BEGIN:VEVENT
DTSTART;TZID=America/Los_Angeles:20251014T123000
DTEND;TZID=America/Los_Angeles:20251014T130000
DTSTAMP:20260420T164740
CREATED:20250519T181242Z
LAST-MODIFIED:20250909T201249Z
UID:10000099-1760445000-1760446800@ggu.edu
SUMMARY:Info Session: Master of Public Administration
DESCRIPTION:Join us for a 30-minute virtual info session on Golden Gate University’s Master of Public Administration (MPA) program. \nOffered by the Bay Area’s oldest public administration department\, GGU’s MPA program is built for working professionals looking to lead in government and nonprofit sectors. Students gain practical\, real-time skills in leadership\, budgeting\, ethics\, and policy implementation—taught by faculty who are seasoned public service leaders. \nThis flexible\, career-focused program is available in online\, hybrid\, and asynchronous formats\, making it ideal for professionals balancing work and education. GGU’s strong ties to NASPAA\, ASPA\, and ICMA offer unique networking and development opportunities. \nLearn how GGU’s MPA program delivers hands-on solutions to today’s public sector challenges and prepares you to advance with confidence in your career. During this session\, you’ll hear from program leadership\, get details on admissions\, tuition\, and deadlines\, and have a chance to ask questions. Register today!
URL:https://ggu.edu/event/info-session-master-of-public-administration/
CATEGORIES:Info Session
ATTACH;FMTTYPE=image/jpeg:https://ggu.edu/wp-content/uploads/2025/09/1280x720-MPA.jpg
END:VEVENT
BEGIN:VEVENT
DTSTART;TZID=America/Los_Angeles:20251014T120000
DTEND;TZID=America/Los_Angeles:20251014T123000
DTSTAMP:20260420T164740
CREATED:20250519T165040Z
LAST-MODIFIED:20250909T201004Z
UID:10000093-1760443200-1760445000@ggu.edu
SUMMARY:Info Session: Finance Programs
DESCRIPTION:Join us for a 30-minute virtual info session to explore Golden Gate University’s MS in Finance and MS in Financial Analytics programs. \nGGU’s finance programs equip professionals with the analytical and technical skills needed to thrive in today’s data-driven financial landscape. The MS in Finance focuses on corporate finance and investment management\, is CFA-certified\, and STEM-designated—ideal for those pursuing roles like financial analyst\, portfolio manager\, or corporate financial officer. The MS in Financial Analytics emphasizes principles and practices of corporate finance and business analytics\, including programming\, data analysis\, business valuation\, and financial modeling. \nLocated in San Francisco’s Financial District\, GGU offers industry-connected faculty\, small class sizes\, and strong ties to Bay Area finance firms. Both programs are offered fully online or in hybrid formats designed for working professionals. \nDuring the session\, the program director will share insights on curriculum\, admissions\, and career outcomes. Register today to learn how GGU’s finance programs can accelerate your career in a rapidly evolving industry.
URL:https://ggu.edu/event/info-session-finance-programs/
CATEGORIES:Info Session
ATTACH;FMTTYPE=image/jpeg:https://ggu.edu/wp-content/uploads/2025/09/1280x720-Finance-Programs.jpg
END:VEVENT
BEGIN:VEVENT
DTSTART;TZID=America/Los_Angeles:20251013T120000
DTEND;TZID=America/Los_Angeles:20251013T123000
DTSTAMP:20260420T164740
CREATED:20250306T172723Z
LAST-MODIFIED:20250912T173540Z
UID:10000057-1760356800-1760358600@ggu.edu
SUMMARY:Info Session: MS in Taxation
DESCRIPTION:Join us for a 30-minute information session on Golden Gate University’s Master of Science in Taxation. \nWhether you’re an experienced tax professional or entering the field\, this session will provide an overview of both programs—each designed to deepen your technical expertise and expand your career opportunities in public accounting\, industry\, government\, or private practice. \nWe’ll explore curriculum highlights\, learning outcomes\, admissions requirements\, tuition details\, and important application deadlines. \nThe program director will be available to share insights and answer your questions. Don’t miss this opportunity to see how GGU’s MS in Taxation can help you advance in a rapidly evolving profession.
URL:https://ggu.edu/event/info-session-ms-in-taxation/
CATEGORIES:Info Session
ATTACH;FMTTYPE=image/jpeg:https://ggu.edu/wp-content/uploads/2025/03/MS-Tax-Stock-Image-Spring-26.jpeg
END:VEVENT
BEGIN:VEVENT
DTSTART;TZID=America/Los_Angeles:20251013T000000
DTEND;TZID=America/Los_Angeles:20251013T235959
DTSTAMP:20260420T164740
CREATED:20250529T212706Z
LAST-MODIFIED:20250529T212708Z
UID:10000126-1760313600-1760399999@ggu.edu
SUMMARY:National M&Ms Day
DESCRIPTION:1st Floor Lobby \n\n        \n          \n  \n\n\n\n\n\n\n\n\n  \n  \n    \n                    \n          Celebrate National M&Ms Day with your Office of Student Life team. Grab a pack on your way to class… or just because. \nWhile supplies last.
URL:https://ggu.edu/event/national-mms-day/
ATTACH;FMTTYPE=image/png:https://ggu.edu/wp-content/uploads/2023/08/GGU_Web-Icons_Campus-Events_v2_colored.png
END:VEVENT
BEGIN:VEVENT
DTSTART;TZID=America/Los_Angeles:20251004T110000
DTEND;TZID=America/Los_Angeles:20251004T130000
DTSTAMP:20260420T164740
CREATED:20250924T161810Z
LAST-MODIFIED:20250924T161814Z
UID:10000220-1759575600-1759582800@ggu.edu
SUMMARY:Community Meal
DESCRIPTION:4th Floor Lobby \n\n        \n          \n  \n\n\n\n\n\n\n\n\n  \n  \n    \n                    \n          Sandwiches — pick up a plate on your way to class.
URL:https://ggu.edu/event/community-meal-3/
CATEGORIES:Campus Week
ATTACH;FMTTYPE=image/png:https://ggu.edu/wp-content/uploads/2023/08/GGU_Web-Icons_Community-Events_v2_colored.png
END:VEVENT
BEGIN:VEVENT
DTSTART;TZID=America/Los_Angeles:20251003T190000
DTEND;TZID=America/Los_Angeles:20251003T210000
DTSTAMP:20260420T164740
CREATED:20250910T193439Z
LAST-MODIFIED:20250910T193441Z
UID:10000204-1759518000-1759525200@ggu.edu
SUMMARY:8th DBA Research Symposium
DESCRIPTION:Join via Zoom \n\n        \n          \n  \n\n\n\n\n\n\n\n\n  \n  \n    \n                    \n          Join us via Zoom for the 8th DBA Research Symposium. \nTHEME: Emerging Technologies\, AI\, Agentic AI\, Business\, and Policy.
URL:https://ggu.edu/event/8th-dba-research-symposium/
CATEGORIES:Campus Week
ATTACH;FMTTYPE=image/png:https://ggu.edu/wp-content/uploads/2023/08/GGU_Web-Icons_Teacher-Presenting-Online_colored.png
END:VEVENT
BEGIN:VEVENT
DTSTART;TZID=America/Los_Angeles:20251003T150000
DTEND;TZID=America/Los_Angeles:20251003T180000
DTSTAMP:20260420T164740
CREATED:20250917T180158Z
LAST-MODIFIED:20250917T180603Z
UID:10000214-1759503600-1759514400@ggu.edu
SUMMARY:SHRM@GGU — Bay Area Mixer
DESCRIPTION:Plaza \n\n        \n          \n  \n\n\n\n\n\n\n\n\n  \n  \n    \n                    \n          Networking event uniting students\, alumni\, and HR professionals to exchange ideas in HR\, I/O Psychology\, Management\, and Leadership.
URL:https://ggu.edu/event/shrmggu-bay-area-mixer/
CATEGORIES:Campus Week
ATTACH;FMTTYPE=image/png:https://ggu.edu/wp-content/uploads/2023/08/GGU_Web-Icons_Networking_orange.png
END:VEVENT
BEGIN:VEVENT
DTSTART;TZID=America/Los_Angeles:20251003T130000
DTEND;TZID=America/Los_Angeles:20251003T140000
DTSTAMP:20260420T164740
CREATED:20250924T161553Z
LAST-MODIFIED:20250924T161555Z
UID:10000219-1759496400-1759500000@ggu.edu
SUMMARY:Exploring Opportunities at CLA
DESCRIPTION:Room 3203 \n\n        \n          \n  \n\n\n\n\n\n\n\n\n  \n  \n    \n                    \n          CLA’s Recruiter and Tax Principal will share insights on careers\, firm culture\, and hiring. Don’t miss this chance to learn\, network\, and explore career paths with CLA!
URL:https://ggu.edu/event/exploring-opportunities-at-cla/
CATEGORIES:Campus Week
ATTACH;FMTTYPE=image/png:https://ggu.edu/wp-content/uploads/2023/08/GGU_Web-Icons_Industry-Professional_v3_blue.png
END:VEVENT
BEGIN:VEVENT
DTSTART;TZID=America/Los_Angeles:20251003T100000
DTEND;TZID=America/Los_Angeles:20251003T180000
DTSTAMP:20260420T164740
CREATED:20250910T193052Z
LAST-MODIFIED:20250910T193054Z
UID:10000203-1759485600-1759514400@ggu.edu
SUMMARY:Leadership Workshop
DESCRIPTION:GGU Center \n\n        \n          \n  \n\n\n\n\n\n\n\n\n  \n  \n    \n                    \n          Required for new SGA Officers and recommended for SORG officers. We will cover leadership essentials\, communication\, SORG management\, and more!
URL:https://ggu.edu/event/leadership-workshop/
CATEGORIES:Campus Week
ATTACH;FMTTYPE=image/png:https://ggu.edu/wp-content/uploads/2023/08/GGU_Web-Icons_Collaboration_colored.png
END:VEVENT
BEGIN:VEVENT
DTSTART;TZID=America/Los_Angeles:20251002T170000
DTEND;TZID=America/Los_Angeles:20251002T190000
DTSTAMP:20260420T164741
CREATED:20250910T192628Z
LAST-MODIFIED:20250917T180435Z
UID:10000202-1759424400-1759431600@ggu.edu
SUMMARY:Community Meal
DESCRIPTION:GGU Center \n\n        \n          \n  \n\n\n\n\n\n\n\n\n  \n  \n    \n                    \n          Mexican — In honor of Hispanic Heritage Month\, pick up a plate on your way to the Random Acts of Poetry Open Mic\, after attending LinkedIn Headshots\, or on your way to class.
URL:https://ggu.edu/event/community-meal-2/
CATEGORIES:Campus Week
ATTACH;FMTTYPE=image/png:https://ggu.edu/wp-content/uploads/2023/08/GGU_Web-Icons_Community-Events_v2_colored.png
END:VEVENT
BEGIN:VEVENT
DTSTART;TZID=America/Los_Angeles:20251002T170000
DTEND;TZID=America/Los_Angeles:20251002T180000
DTSTAMP:20260420T164741
CREATED:20250910T191755Z
LAST-MODIFIED:20250910T191758Z
UID:10000198-1759424400-1759428000@ggu.edu
SUMMARY:Random Acts of Poetry Open Mic
DESCRIPTION:GGU Center \n\n        \n          \n  \n\n\n\n\n\n\n\n\n  \n  \n    \n                    \n          Spoken word\, prose\, lyric — poetry is all around us. Take a moment to share your favorite author.
URL:https://ggu.edu/event/random-acts-of-poetry-open-mic/
CATEGORIES:Campus Week
ATTACH;FMTTYPE=image/png:https://ggu.edu/wp-content/uploads/2023/08/GGU_Web-Icons_QA_colored.png
END:VEVENT
BEGIN:VEVENT
DTSTART;TZID=America/Los_Angeles:20251002T150000
DTEND;TZID=America/Los_Angeles:20251002T170000
DTSTAMP:20260420T164741
CREATED:20250910T192415Z
LAST-MODIFIED:20250910T192736Z
UID:10000201-1759417200-1759424400@ggu.edu
SUMMARY:LinkedIn Headshot Session
DESCRIPTION:Rooms 4216 & 4217 \n\n        \n          \n  \n\n\n\n\n\n\n\n\n  \n  \n    \n                    \n          Put your best foot forward with a professional headshot! This is a first come\, first served basis.
URL:https://ggu.edu/event/linkedin-headshot-session-2/
CATEGORIES:Campus Week
ATTACH;FMTTYPE=image/png:https://ggu.edu/wp-content/uploads/2023/08/GGU_Web-Icons_Industry-Professional_v1_colored.png
END:VEVENT
BEGIN:VEVENT
DTSTART;TZID=America/Los_Angeles:20251002T140000
DTEND;TZID=America/Los_Angeles:20251002T160000
DTSTAMP:20260420T164741
CREATED:20250910T192222Z
LAST-MODIFIED:20250910T192237Z
UID:10000200-1759413600-1759420800@ggu.edu
SUMMARY:Movie Match Mania
DESCRIPTION:Room 4212 \n\n        \n          \n  \n\n\n\n\n\n\n\n\n  \n  \n    \n                    \n          Come join us for a competitive game of Movie Matching…you just may win a prize!
URL:https://ggu.edu/event/movie-match-mania-2/
CATEGORIES:Campus Week
ATTACH;FMTTYPE=image/png:https://ggu.edu/wp-content/uploads/2023/08/GGU_Web-Icons_Award-Trophy_Colored.png
END:VEVENT
BEGIN:VEVENT
DTSTART;TZID=America/Los_Angeles:20251002T140000
DTEND;TZID=America/Los_Angeles:20251002T150000
DTSTAMP:20260420T164741
CREATED:20250917T175922Z
LAST-MODIFIED:20250924T161257Z
UID:10000213-1759413600-1759417200@ggu.edu
SUMMARY:Bridging the Gap: Startups\, Internships\, and Career Transitions
DESCRIPTION:Room 3208 \n\n        \n          \n  \n\n\n\n\n\n\n\n\n  \n  \n    \n                    \n          Join us for a session with Mike Berlingo\, CEO of StarterYou\, as he shares insights on internships\, startups\, and landing your first job — helping students bridge the gap from college to career.
URL:https://ggu.edu/event/bridging-the-gap-startups-internships-and-career-transitions/
CATEGORIES:Campus Week
ATTACH;FMTTYPE=image/png:https://ggu.edu/wp-content/uploads/2023/08/GGU_Web-Icons_Business_colored.png
END:VEVENT
BEGIN:VEVENT
DTSTART;TZID=America/Los_Angeles:20251002T130000
DTEND;TZID=America/Los_Angeles:20251002T170000
DTSTAMP:20260420T164741
CREATED:20250910T192007Z
LAST-MODIFIED:20250910T192010Z
UID:10000199-1759410000-1759424400@ggu.edu
SUMMARY:SFVA Enrollments or Assistance
DESCRIPTION:Room 4212 \n\n        \n          \n  \n\n\n\n\n\n\n\n\n  \n  \n    \n                    \n          Enrolled in VA Healthcare? Need a VA ID Card? Have a question about the VA? Join us so we can assist!
URL:https://ggu.edu/event/sfva-enrollments-or-assistance-4/
CATEGORIES:Campus Week
ATTACH;FMTTYPE=image/png:https://ggu.edu/wp-content/uploads/2023/08/GGU_Web-Icons_Military_orange.png
END:VEVENT
BEGIN:VEVENT
DTSTART;TZID=America/Los_Angeles:20251002T123000
DTEND;TZID=America/Los_Angeles:20251002T140000
DTSTAMP:20260420T164741
CREATED:20250917T175534Z
LAST-MODIFIED:20250917T175537Z
UID:10000212-1759408200-1759413600@ggu.edu
SUMMARY:From Insight to Impact: How AI is Transforming Human Resources
DESCRIPTION:Room 3201 \n\n        \n          \n  \n\n\n\n\n\n\n\n\n  \n  \n    \n                    \n          Panel discussion regarding AI’s impact on human resource departments and their operations.
URL:https://ggu.edu/event/from-insight-to-impact-how-ai-is-transforming-human-resources/
CATEGORIES:Campus Week
ATTACH;FMTTYPE=image/png:https://ggu.edu/wp-content/uploads/2023/08/GGU_Web-Icons_STEM_colored.png
END:VEVENT
BEGIN:VEVENT
DTSTART;TZID=America/Los_Angeles:20251002T113000
DTEND;TZID=America/Los_Angeles:20251002T123000
DTSTAMP:20260420T164741
CREATED:20250924T161047Z
LAST-MODIFIED:20250924T161051Z
UID:10000218-1759404600-1759408200@ggu.edu
SUMMARY:Getting Started With Zapier Automation
DESCRIPTION:Room 3209 \n\n        \n          \n  \n\n\n\n\n\n\n\n\n  \n  \n    \n                    \n          Introductory workshop on automation with Zapier.
URL:https://ggu.edu/event/getting-started-with-zapier-automation/
CATEGORIES:Campus Week
ATTACH;FMTTYPE=image/png:https://ggu.edu/wp-content/uploads/2023/08/GGU_Web-Icons_Working-from-home_colored.png
END:VEVENT
BEGIN:VEVENT
DTSTART;TZID=America/Los_Angeles:20251001T180000
DTEND;TZID=America/Los_Angeles:20251001T190000
DTSTAMP:20260420T164741
CREATED:20250924T160518Z
LAST-MODIFIED:20250924T160520Z
UID:10000217-1759341600-1759345200@ggu.edu
SUMMARY:Vet Hour | Revamp Your LinkedIn With Your Own AI-Made Profile Picture
DESCRIPTION:GGU Center \n\n        \n          \n  \n\n\n\n\n\n\n\n\n  \n  \n    \n                    \n          Get a free Gemini membership and build your own AI professional picture. Please bring 3-5 of your best headshots for your revamped profile pic!
URL:https://ggu.edu/event/vet-hour-revamp-your-linkedin-with-your-own-ai-made-profile-picture/
CATEGORIES:Campus Week
ATTACH;FMTTYPE=image/png:https://ggu.edu/wp-content/uploads/2023/08/GGU_Web-Icons_Industry-Professional_v1_colored.png
END:VEVENT
BEGIN:VEVENT
DTSTART;TZID=America/Los_Angeles:20251001T163000
DTEND;TZID=America/Los_Angeles:20251001T190000
DTSTAMP:20260420T164741
CREATED:20250917T174605Z
LAST-MODIFIED:20250917T174644Z
UID:10000211-1759336200-1759345200@ggu.edu
SUMMARY:CPA Exam Info Session
DESCRIPTION:Room 3208 \n\n        \n          \n  \n\n\n\n\n\n\n\n\n  \n  \n    \n                    \n          Find out all there is to know about the CPA Exam with Professor Lord.
URL:https://ggu.edu/event/cpa-exam-info-session/
CATEGORIES:Campus Week
ATTACH;FMTTYPE=image/png:https://ggu.edu/wp-content/uploads/2023/08/GGU_Web-Icons_Teacher-Presenting-Whiteboard_colored.png
END:VEVENT
BEGIN:VEVENT
DTSTART;TZID=America/Los_Angeles:20251001T153000
DTEND;TZID=America/Los_Angeles:20251001T173000
DTSTAMP:20260420T164741
CREATED:20250910T191501Z
LAST-MODIFIED:20250910T191504Z
UID:10000197-1759332600-1759339800@ggu.edu
SUMMARY:Community Meal
DESCRIPTION:4th Floor Lobby \n\n        \n          \n  \n\n\n\n\n\n\n\n\n  \n  \n    \n                    \n          Pizza Slice — Pick up a slice on your way to the Tax and Accounting Career Fair\, after attending Yoga with Eden\, or on your way to class.
URL:https://ggu.edu/event/community-meal/
CATEGORIES:Campus Week
ATTACH;FMTTYPE=image/png:https://ggu.edu/wp-content/uploads/2023/08/GGU_Web-Icons_Community-Events_v2_colored.png
END:VEVENT
BEGIN:VEVENT
DTSTART;TZID=America/Los_Angeles:20251001T153000
DTEND;TZID=America/Los_Angeles:20251001T170000
DTSTAMP:20260420T164741
CREATED:20250910T191125Z
LAST-MODIFIED:20250924T160702Z
UID:10000196-1759332600-1759338000@ggu.edu
SUMMARY:Tax & Accounting Mini Career Fair
DESCRIPTION:GGU Center \n\n        \n          \n  \n\n\n\n\n\n\n\n\n  \n  \n    \n                    \n          Bay Area Taxation & Accounting firms are recruiting students and recent alumni from GGU’s Taxation\, Accounting\, and LLM Tax programs. Bring your resume learn about potential job opportunities!
URL:https://ggu.edu/event/tax-accounting-mini-career-fair/
CATEGORIES:Campus Week
ATTACH;FMTTYPE=image/png:https://ggu.edu/wp-content/uploads/2023/08/GGU_Web-Icons_Industry-Professional_v2_colored.png
END:VEVENT
BEGIN:VEVENT
DTSTART;TZID=America/Los_Angeles:20251001T150000
DTEND;TZID=America/Los_Angeles:20251001T163000
DTSTAMP:20260420T164741
CREATED:20250910T190842Z
LAST-MODIFIED:20250910T190914Z
UID:10000195-1759330800-1759336200@ggu.edu
SUMMARY:Stop\, Drop\, and Write!
DESCRIPTION:Hybrid — Room 3201 or Join via Zoom \n\n        \n          \n  \n\n\n\n\n\n\n\n\n  \n  \n    \n                    \n          STOP procrastinating\, DROP everything\, and WRITE your next project. This writing workshop is for EVERYONE who has difficulty finding time to write. OWL tutors are here to help as well as peers in the same boat.
URL:https://ggu.edu/event/stop-drop-and-write/
CATEGORIES:Campus Week
ATTACH;FMTTYPE=image/png:https://ggu.edu/wp-content/uploads/2023/08/GGU_Web-Icons_Application_colored.png
END:VEVENT
BEGIN:VEVENT
DTSTART;TZID=America/Los_Angeles:20251001T140000
DTEND;TZID=America/Los_Angeles:20251001T160000
DTSTAMP:20260420T164741
CREATED:20250910T190104Z
LAST-MODIFIED:20250910T190107Z
UID:10000194-1759327200-1759334400@ggu.edu
SUMMARY:Movie Match Mania
DESCRIPTION:Room 4211 \n\n        \n          \n  \n\n\n\n\n\n\n\n\n  \n  \n    \n                    \n          Come join us for a competitive game of Movie Matching…you just may win a prize!
URL:https://ggu.edu/event/movie-match-mania/
CATEGORIES:Campus Week
ATTACH;FMTTYPE=image/png:https://ggu.edu/wp-content/uploads/2023/08/GGU_Web-Icons_Award-Trophy_Colored.png
END:VEVENT
BEGIN:VEVENT
DTSTART;TZID=America/Los_Angeles:20251001T130000
DTEND;TZID=America/Los_Angeles:20251001T170000
DTSTAMP:20260420T164741
CREATED:20250910T184434Z
LAST-MODIFIED:20250910T193535Z
UID:10000192-1759323600-1759338000@ggu.edu
SUMMARY:SFVA Enrollments or Assistance
DESCRIPTION:Room 4211 \n\n        \n          \n  \n\n\n\n\n\n\n\n\n  \n  \n    \n                    \n          Enrolled in VA Healthcare? Need a VA ID Card? Have a question about the VA? Join us so we can assist!
URL:https://ggu.edu/event/sfva-enrollments-or-assistance-3/
CATEGORIES:Campus Week
ATTACH;FMTTYPE=image/png:https://ggu.edu/wp-content/uploads/2023/08/GGU_Web-Icons_Military_blue.png
END:VEVENT
BEGIN:VEVENT
DTSTART;TZID=America/Los_Angeles:20251001T130000
DTEND;TZID=America/Los_Angeles:20251001T153000
DTSTAMP:20260420T164741
CREATED:20250917T174106Z
LAST-MODIFIED:20250917T174109Z
UID:10000210-1759323600-1759332600@ggu.edu
SUMMARY:Earthquake Preparedness!
DESCRIPTION:4th Floor\, near rooms 4211/4212 \n\n        \n          \n  \n\n\n\n\n\n\n\n\n  \n  \n    \n                    \n          Representatives from San Francisco Community Living organization will table an event and share earthquake preparedness resources.
URL:https://ggu.edu/event/earthquake-preparedness/
CATEGORIES:Campus Week
ATTACH;FMTTYPE=image/png:https://ggu.edu/wp-content/uploads/2023/08/GGU_Web-Icons_Community-Events_v1_colored.png
END:VEVENT
BEGIN:VEVENT
DTSTART;TZID=America/Los_Angeles:20251001T130000
DTEND;TZID=America/Los_Angeles:20251001T150000
DTSTAMP:20260420T164741
CREATED:20250924T155831Z
LAST-MODIFIED:20250924T155833Z
UID:10000216-1759323600-1759330800@ggu.edu
SUMMARY:Exploring AI Tools & Strategies For Entrepreneurship
DESCRIPTION:Room 3203 \n\n        \n          \n  \n\n\n\n\n\n\n\n\n  \n  \n    \n                    \n          This is a practical workshop on how to use some of the best AI tools. Professors Nicole J. and Larry E. will guide you on how to apply AI tools to boost your professional growth.
URL:https://ggu.edu/event/exploring-ai-tools-strategies-for-entrepreneurship/
CATEGORIES:Campus Week
ATTACH;FMTTYPE=image/png:https://ggu.edu/wp-content/uploads/2023/08/GGU_Web-Icons_Technology_colored.png
END:VEVENT
BEGIN:VEVENT
DTSTART;TZID=America/Los_Angeles:20251001T130000
DTEND;TZID=America/Los_Angeles:20251001T140000
DTSTAMP:20260420T164741
CREATED:20250930T173513Z
LAST-MODIFIED:20250930T173609Z
UID:10000221-1759323600-1759327200@ggu.edu
SUMMARY:SFSPCA Therapy Dogs
DESCRIPTION:Room 4209 \n\n        \n          \n  \n\n\n\n\n\n\n\n\n  \n  \n    \n                    \n          Join the SFSPCA therapy dogs to relieve some stress.
URL:https://ggu.edu/event/sfspca-therapy-dogs-2/
CATEGORIES:Campus Week
ATTACH;FMTTYPE=image/png:https://ggu.edu/wp-content/uploads/2023/08/GGU_Web-Icons_Campus-Events_v2_colored.png
END:VEVENT
BEGIN:VEVENT
DTSTART;TZID=America/Los_Angeles:20251001T120000
DTEND;TZID=America/Los_Angeles:20251001T164500
DTSTAMP:20260420T164741
CREATED:20250917T173541Z
LAST-MODIFIED:20250917T174227Z
UID:10000209-1759320000-1759337100@ggu.edu
SUMMARY:Mid-Day Chair Massage!
DESCRIPTION:Room 4212 \n\n        \n          \n  \n\n\n\n\n\n\n\n\n  \n  \n    \n                    \n          Come and join us for a 10 minute chair massage! Lily Woo is back by popular demand and she will help you unwind through a magical massage. \nPlease send Melissa an email at melissamcnair@ggu.edu to confirm your time slot.  \nDue to the popularity of this event\, students will have first priority.
URL:https://ggu.edu/event/mid-day-chair-massage-2/
CATEGORIES:Campus Week
ATTACH;FMTTYPE=image/png:https://ggu.edu/wp-content/uploads/2023/08/GGU_Web-Icons_Campus-Events_v2_colored.png
END:VEVENT
END:VCALENDAR