BEGIN:VCALENDAR
VERSION:2.0
PRODID:-//Golden Gate University - ECPv6.15.15//NONSGML v1.0//EN
CALSCALE:GREGORIAN
METHOD:PUBLISH
X-WR-CALNAME:Golden Gate University
X-ORIGINAL-URL:https://ggu.edu
X-WR-CALDESC:Events for Golden Gate University
REFRESH-INTERVAL;VALUE=DURATION:PT1H
X-Robots-Tag:noindex
X-PUBLISHED-TTL:PT1H
BEGIN:VTIMEZONE
TZID:America/Los_Angeles
BEGIN:DAYLIGHT
TZOFFSETFROM:-0800
TZOFFSETTO:-0700
TZNAME:PDT
DTSTART:20240310T100000
END:DAYLIGHT
BEGIN:STANDARD
TZOFFSETFROM:-0700
TZOFFSETTO:-0800
TZNAME:PST
DTSTART:20241103T090000
END:STANDARD
BEGIN:DAYLIGHT
TZOFFSETFROM:-0800
TZOFFSETTO:-0700
TZNAME:PDT
DTSTART:20250309T100000
END:DAYLIGHT
BEGIN:STANDARD
TZOFFSETFROM:-0700
TZOFFSETTO:-0800
TZNAME:PST
DTSTART:20251102T090000
END:STANDARD
BEGIN:DAYLIGHT
TZOFFSETFROM:-0800
TZOFFSETTO:-0700
TZNAME:PDT
DTSTART:20260308T100000
END:DAYLIGHT
BEGIN:STANDARD
TZOFFSETFROM:-0700
TZOFFSETTO:-0800
TZNAME:PST
DTSTART:20261101T090000
END:STANDARD
END:VTIMEZONE
BEGIN:VEVENT
DTSTART;TZID=America/Los_Angeles:20251204T000000
DTEND;TZID=America/Los_Angeles:20251204T235959
DTSTAMP:20260420T144919
CREATED:20250529T220147Z
LAST-MODIFIED:20250529T221107Z
UID:10000131-1764806400-1764892799@ggu.edu
SUMMARY:National Cookie Day
DESCRIPTION:1st Floor Lobby \n\n        \n          \n  \n\n\n\n\n\n\n\n\n  \n  \n    \n                    \n          Celebrate World Cookie Day with your Office of Student Life team. Grab a cookie on your way to class… or just because. \nWhile supplies last.
URL:https://ggu.edu/event/national-cookie-day/
ATTACH;FMTTYPE=image/png:https://ggu.edu/wp-content/uploads/2023/08/GGU_Web-Icons_Campus-Events_v2_colored.png
END:VEVENT
BEGIN:VEVENT
DTSTART;TZID=America/Los_Angeles:20251127T000000
DTEND;TZID=America/Los_Angeles:20251128T235959
DTSTAMP:20260420T144920
CREATED:20250115T203035Z
LAST-MODIFIED:20250115T203136Z
UID:10000019-1764201600-1764374399@ggu.edu
SUMMARY:Thanksgiving Holiday
DESCRIPTION:The university will be closed on these dates.
URL:https://ggu.edu/event/thanksgiving-holiday/
LOCATION:Golden Gate University Campus\, 536 Mission St.\, San Francisco\, CA\, 94105\, United States
CATEGORIES:Holidays
ATTACH;FMTTYPE=image/png:https://ggu.edu/wp-content/uploads/2023/08/GGU_Web-Icons_Community-Events_v1_colored.png
END:VEVENT
BEGIN:VEVENT
DTSTART;TZID=America/Los_Angeles:20251122T110000
DTEND;TZID=America/Los_Angeles:20251122T130000
DTSTAMP:20260420T144920
CREATED:20251029T205555Z
LAST-MODIFIED:20251029T205557Z
UID:10000246-1763809200-1763816400@ggu.edu
SUMMARY:Community Meal
DESCRIPTION:4th Floor Lobby \n\n        \n          \n  \n\n\n\n\n\n\n\n\n  \n  \n    \n                    \n          Sandwiches — pick up a plate on your way to class.
URL:https://ggu.edu/event/community-meal-5/
CATEGORIES:Campus Week
ATTACH;FMTTYPE=image/png:https://ggu.edu/wp-content/uploads/2023/08/GGU_Web-Icons_Community-Events_v2_colored.png
END:VEVENT
BEGIN:VEVENT
DTSTART;TZID=America/Los_Angeles:20251121T190000
DTEND;TZID=America/Los_Angeles:20251121T210000
DTSTAMP:20260420T144920
CREATED:20251029T205211Z
LAST-MODIFIED:20251029T205214Z
UID:10000245-1763751600-1763758800@ggu.edu
SUMMARY:9th DBA Research Symposium
DESCRIPTION:Virtual — Join via Zoom \n\n        \n          \n  \n\n\n\n\n\n\n\n\n  \n  \n    \n                    \n          THEME: Business\, Leadership\, Governance\, and Strategies\, Digital Futures\, and Emerging Technologies
URL:https://ggu.edu/event/9th-dba-research-symposium/
CATEGORIES:Campus Week
ATTACH;FMTTYPE=image/png:https://ggu.edu/wp-content/uploads/2023/08/GGU_Web-Icons_Teacher-Presenting-Online_colored.png
END:VEVENT
BEGIN:VEVENT
DTSTART;TZID=America/Los_Angeles:20251120T160000
DTEND;TZID=America/Los_Angeles:20251120T170000
DTSTAMP:20260420T144920
CREATED:20251029T204959Z
LAST-MODIFIED:20251029T205001Z
UID:10000244-1763654400-1763658000@ggu.edu
SUMMARY:Mastering the Art of Networking with Batchimeg S.
DESCRIPTION:Room 3214 \n\n        \n          \n  \n\n\n\n\n\n\n\n\n  \n  \n    \n                    \n          Learn to grow your network\, turn cold contacts into warm connections\, and gain practical tips from real experiences. The session ends with a Q&A to tackle your networking challenges.
URL:https://ggu.edu/event/mastering-the-art-of-networking-with-batchimeg-s/
CATEGORIES:Campus Week
ATTACH;FMTTYPE=image/png:https://ggu.edu/wp-content/uploads/2023/08/GGU_Web-Icons_Networking_blue.png
END:VEVENT
BEGIN:VEVENT
DTSTART;TZID=America/Los_Angeles:20251120T140000
DTEND;TZID=America/Los_Angeles:20251120T160000
DTSTAMP:20260420T144920
CREATED:20251029T204742Z
LAST-MODIFIED:20251029T204746Z
UID:10000243-1763647200-1763654400@ggu.edu
SUMMARY:Diller Center Snack and Chat
DESCRIPTION:4th Floor Lobby \n\n        \n          \n  \n\n\n\n\n\n\n\n\n  \n  \n    \n                    \n          Come enjoy a snack while you meet with your Diller Center Team Representative.
URL:https://ggu.edu/event/diller-center-snack-and-chat/
CATEGORIES:Campus Week
ATTACH;FMTTYPE=image/png:https://ggu.edu/wp-content/uploads/2023/08/GGU_Web-Icons_Students-at-table_colored.png
END:VEVENT
BEGIN:VEVENT
DTSTART;TZID=America/Los_Angeles:20251120T130000
DTEND;TZID=America/Los_Angeles:20251120T170000
DTSTAMP:20260420T144920
CREATED:20251029T204530Z
LAST-MODIFIED:20251029T204534Z
UID:10000242-1763643600-1763658000@ggu.edu
SUMMARY:SFVA ID Cards & Enrollment Drop-In
DESCRIPTION:Room 4212 \n\n        \n          \n  \n\n\n\n\n\n\n\n\n  \n  \n    \n                    \n          Come meet with your SFVA representative and enroll in SFVA\, get an ID card\, or ask a question!
URL:https://ggu.edu/event/sfva-id-cards-enrollment-drop-in-2/
CATEGORIES:Campus Week
ATTACH;FMTTYPE=image/png:https://ggu.edu/wp-content/uploads/2023/08/GGU_Web-Icons_Military_orange.png
END:VEVENT
BEGIN:VEVENT
DTSTART;TZID=America/Los_Angeles:20251120T120000
DTEND;TZID=America/Los_Angeles:20251120T140000
DTSTAMP:20260420T144920
CREATED:20251029T204313Z
LAST-MODIFIED:20251029T204820Z
UID:10000241-1763640000-1763647200@ggu.edu
SUMMARY:Friendsgiving
DESCRIPTION:2nd Floor Lobby \n\n        \n          \n  \n\n\n\n\n\n\n\n\n  \n  \n    \n                    \n          Enjoy a meal with friends at GGU! Hosted by DSS in collaboration with SGA and GGU Clubs. Sign up to bring a dish to share.
URL:https://ggu.edu/event/friendsgiving/
CATEGORIES:Campus Week
ATTACH;FMTTYPE=image/png:https://ggu.edu/wp-content/uploads/2023/08/GGU_Web-Icons_Student-Club_v1_colored-250.png
END:VEVENT
BEGIN:VEVENT
DTSTART;TZID=America/Los_Angeles:20251120T110000
DTEND;TZID=America/Los_Angeles:20251120T160000
DTSTAMP:20260420T144920
CREATED:20251105T180658Z
LAST-MODIFIED:20251105T180701Z
UID:10000249-1763636400-1763654400@ggu.edu
SUMMARY:Letters to Home: Holiday Card & Letter Writing
DESCRIPTION:Room 2333 \n\n        \n          \n  \n\n\n\n\n\n\n\n\n  \n  \n    \n                    \n          Write and decorate holiday cards for friends and family — we’ll even mail them for you! Drop in for cocoa\, snacks\, and a cozy space to spread a little cheer.
URL:https://ggu.edu/event/letters-to-home-holiday-card-letter-writing/
CATEGORIES:Campus Week
ATTACH;FMTTYPE=image/png:https://ggu.edu/wp-content/uploads/2023/08/GGU_Web-Icons_Application_colored.png
END:VEVENT
BEGIN:VEVENT
DTSTART;TZID=America/Los_Angeles:20251120T100000
DTEND;TZID=America/Los_Angeles:20251120T100000
DTSTAMP:20260420T144920
CREATED:20250529T215744Z
LAST-MODIFIED:20251029T204038Z
UID:10000130-1763632800-1763632800@ggu.edu
SUMMARY:National Gingerbread Cookie Day
DESCRIPTION:1st Floor Lobby \n\n        \n          \n  \n\n\n\n\n\n\n\n\n  \n  \n    \n                    \n          Run\, run as fast as you can! Try to catch the gingerbread man cookies! Oh no\, not the gumdrop buttons! \nWhile supplies last.
URL:https://ggu.edu/event/national-gingerbread-cookie-day/
CATEGORIES:Campus Week
ATTACH;FMTTYPE=image/png:https://ggu.edu/wp-content/uploads/2023/08/GGU_Web-Icons_Campus-Events_v2_colored.png
END:VEVENT
BEGIN:VEVENT
DTSTART;TZID=America/Los_Angeles:20251119T180000
DTEND;TZID=America/Los_Angeles:20251119T200000
DTSTAMP:20260420T144920
CREATED:20251029T203647Z
LAST-MODIFIED:20251029T203710Z
UID:10000240-1763575200-1763582400@ggu.edu
SUMMARY:SVA Social
DESCRIPTION:Plaza Lounge \n\n        \n          \n  \n\n\n\n\n\n\n\n\n  \n  \n    \n                    \n          Event to bring vets together\, foster camaraderie\, and provide ops to connect and network. SVA welcomes vets\, dependents\, & allies to build a stronger\, more inclusive veteran community.
URL:https://ggu.edu/event/sva-social/
CATEGORIES:Campus Week
ATTACH;FMTTYPE=image/png:https://ggu.edu/wp-content/uploads/2023/08/GGU_Web-Icons_Networking_orange.png
END:VEVENT
BEGIN:VEVENT
DTSTART;TZID=America/Los_Angeles:20251119T170000
DTEND;TZID=America/Los_Angeles:20251119T180000
DTSTAMP:20260420T144920
CREATED:20251029T203400Z
LAST-MODIFIED:20251029T203403Z
UID:10000239-1763571600-1763575200@ggu.edu
SUMMARY:National Play Monopoly Day
DESCRIPTION:Room 2333 \n\n        \n          \n  \n\n\n\n\n\n\n\n\n  \n  \n    \n                    \n          It’s National Play Monopoly Day! Join the DSS team in a Monopoly marathon.
URL:https://ggu.edu/event/national-play-monopoly-day/
CATEGORIES:Campus Week
ATTACH;FMTTYPE=image/png:https://ggu.edu/wp-content/uploads/2023/08/GGU_Web-Icons_Campus-Events_v2_colored.png
END:VEVENT
BEGIN:VEVENT
DTSTART;TZID=America/Los_Angeles:20251119T160000
DTEND;TZID=America/Los_Angeles:20251119T180000
DTSTAMP:20260420T144920
CREATED:20251029T203015Z
LAST-MODIFIED:20251113T225429Z
UID:10000238-1763568000-1763575200@ggu.edu
SUMMARY:Write Your Way Forward
DESCRIPTION:Library Learning Commons \n\n        \n          \n  \n\n\n\n\n\n\n\n\n  \n  \n    \n                    \n          Write Your Way Forward: Journaling Your Career Path & Well-Being During Times of Economic Uncertainty \nIn a world of constant digital notifications along with economic uncertainty\, our career paths often feel more reactive than intentional. This workshop\, led by Nicole Jackson\, PhD\, invites participants to slow down\, reflect\, and rediscover the power of analog thinking through journaling and the power of connecting. \nThis event is hosted by the SHRM Club and the Career Center.
URL:https://ggu.edu/event/careers-in-hr-insights-employer-meet-up/
LOCATION:Golden Gate University Campus\, 536 Mission St.\, San Francisco\, CA\, 94105\, United States
CATEGORIES:Campus Week
ATTACH;FMTTYPE=image/png:https://ggu.edu/wp-content/uploads/2023/08/GGU_Web-Icons_Industry-Professional_v1_colored.png
END:VEVENT
BEGIN:VEVENT
DTSTART;TZID=America/Los_Angeles:20251119T140000
DTEND;TZID=America/Los_Angeles:20251119T160000
DTSTAMP:20260420T144920
CREATED:20251105T180346Z
LAST-MODIFIED:20251112T175632Z
UID:10000248-1763560800-1763568000@ggu.edu
SUMMARY:Augment Your Personal Large Language Model's Context With Your Own Data
DESCRIPTION:Room 3201 \n\n        \n          \n  \n\n\n\n\n\n\n\n\n  \n  \n    \n                    \n          Join our hands-on workshop and learn about vector embeddings and Retrieval Augmented Generation (RAG). You’ll use a private LLM to analyze your own PDFs and gain personalized insights from your data!
URL:https://ggu.edu/event/augment-personal-llm-knowledge-with-your-own-data/
CATEGORIES:Campus Week
ATTACH;FMTTYPE=image/png:https://ggu.edu/wp-content/uploads/2023/08/GGU_Web-Icons_Worldwide-Network_orange.png
END:VEVENT
BEGIN:VEVENT
DTSTART;TZID=America/Los_Angeles:20251119T140000
DTEND;TZID=America/Los_Angeles:20251119T160000
DTSTAMP:20260420T144920
CREATED:20251029T202553Z
LAST-MODIFIED:20251029T202555Z
UID:10000237-1763560800-1763568000@ggu.edu
SUMMARY:Donuts with the Diller Center
DESCRIPTION:Room 4212 \n\n        \n          \n  \n\n\n\n\n\n\n\n\n  \n  \n    \n                    \n          Please drop in and enjoy a donut with your Diller Center team.
URL:https://ggu.edu/event/donuts-with-the-diller-center/
CATEGORIES:Campus Week
ATTACH;FMTTYPE=image/png:https://ggu.edu/wp-content/uploads/2023/08/GGU_Web-Icons_Student-Club_v1_colored-247.png
END:VEVENT
BEGIN:VEVENT
DTSTART;TZID=America/Los_Angeles:20251119T130000
DTEND;TZID=America/Los_Angeles:20251119T170000
DTSTAMP:20260420T144920
CREATED:20251029T201848Z
LAST-MODIFIED:20251029T201850Z
UID:10000236-1763557200-1763571600@ggu.edu
SUMMARY:SFVA ID Cards & Enrollment Drop-In
DESCRIPTION:Room 4212 \n\n        \n          \n  \n\n\n\n\n\n\n\n\n  \n  \n    \n                    \n          Come meet with your SFVA representative and enroll in SFVA\, get an ID card\, or ask a question!
URL:https://ggu.edu/event/sfva-id-cards-enrollment-drop-in/
CATEGORIES:Campus Week
ATTACH;FMTTYPE=image/png:https://ggu.edu/wp-content/uploads/2023/08/GGU_Web-Icons_Military_blue.png
END:VEVENT
BEGIN:VEVENT
DTSTART;TZID=America/Los_Angeles:20251119T130000
DTEND;TZID=America/Los_Angeles:20251119T140000
DTSTAMP:20260420T144920
CREATED:20251029T200953Z
LAST-MODIFIED:20251029T200955Z
UID:10000235-1763557200-1763560800@ggu.edu
SUMMARY:Center For Business Innovation Presents AI in the Workplace V2.0
DESCRIPTION:Room 3208 \n\n        \n          \n  \n\n\n\n\n\n\n\n\n  \n  \n    \n                    \n          AI is transforming industries\, the skills to succeed\, lead and hire are evolving. Let’s see how AI is shaping careers\, lifelong learning\, offering insights for students\, navigating the future of work.
URL:https://ggu.edu/event/center-for-business-innovation-presents-ai-in-the-workplace-v2-0/
CATEGORIES:Campus Week
ATTACH;FMTTYPE=image/png:https://ggu.edu/wp-content/uploads/2023/08/GGU_Web-Icons_STEM_colored.png
END:VEVENT
BEGIN:VEVENT
DTSTART;TZID=America/Los_Angeles:20251119T120000
DTEND;TZID=America/Los_Angeles:20251119T133000
DTSTAMP:20260420T144921
CREATED:20251029T195705Z
LAST-MODIFIED:20251029T195708Z
UID:10000234-1763553600-1763559000@ggu.edu
SUMMARY:GGU Mentorship Program Kickoff Meeting
DESCRIPTION:Room 2201 \n\n        \n          \n  \n\n\n\n\n\n\n\n\n  \n  \n    \n                    \n          Be part of GGU’s first Mentorship Program Kickoff\, where students\, alumni\, and faculty come together to connect\, inspire\, and celebrate the launch of a lasting mentorship legacy.
URL:https://ggu.edu/event/ggu-mentorship-program-kickoff-meeting/
CATEGORIES:Campus Week
ATTACH;FMTTYPE=image/png:https://ggu.edu/wp-content/uploads/2023/08/GGU_Web-Icons_Student-Services_colored.png
END:VEVENT
BEGIN:VEVENT
DTSTART;TZID=America/Los_Angeles:20251119T100000
DTEND;TZID=America/Los_Angeles:20251119T140000
DTSTAMP:20260420T144921
CREATED:20251112T175927Z
LAST-MODIFIED:20251112T175941Z
UID:10000250-1763546400-1763560800@ggu.edu
SUMMARY:Patelco Credit Union
DESCRIPTION:1st Floor Lobby \n\n        \n          \n  \n\n\n\n\n\n\n\n\n  \n  \n    \n                    \n          Engage with Patelco Credit Union representatives for all your financial wellness questions!
URL:https://ggu.edu/event/patelco-credit-union-2/
CATEGORIES:Campus Week
ATTACH;FMTTYPE=image/png:https://ggu.edu/wp-content/uploads/2023/08/GGU_Web-Icons_Affordable_colored.png
END:VEVENT
BEGIN:VEVENT
DTSTART;TZID=America/Los_Angeles:20251119T090000
DTEND;TZID=America/Los_Angeles:20251119T234500
DTSTAMP:20260420T144921
CREATED:20251029T194918Z
LAST-MODIFIED:20251029T200251Z
UID:10000233-1763542800-1763595900@ggu.edu
SUMMARY:Tour of Verizon Innovation Labs
DESCRIPTION:GGU 1st Floor Lobby \n\n        \n          \n  \n\n\n\n\n\n\n\n\n  \n  \n    \n                    \n          Verizon Innovation Labs Tour for GGU students features a showcase area that includes wide-ranging innovations at every stage- from concept to commercial products. The Innovation Lab in downtown San Francisco features a portfolio of technology demos showcasing a range of commercially available solutions and emerging technologies. It also serves as a key location for explaining how 5G and Mobile Edge Compute will drive new use cases and transform industries. \nExplore how industry leaders are helping pave the way with real word experimentation that accelerates solution development. \nRegistration is limited to 16 people.
URL:https://ggu.edu/event/tour-of-verizon-innovation-labs/
CATEGORIES:Campus Week
ATTACH;FMTTYPE=image/png:https://ggu.edu/wp-content/uploads/2023/08/GGU_Web-Icons_Technology_colored.png
END:VEVENT
BEGIN:VEVENT
DTSTART;TZID=America/Los_Angeles:20251118T180000
DTEND;TZID=America/Los_Angeles:20251118T200000
DTSTAMP:20260420T144921
CREATED:20251029T194137Z
LAST-MODIFIED:20251029T195014Z
UID:10000232-1763488800-1763496000@ggu.edu
SUMMARY:Veteran Pathways: Navigating California's Employment Landscape for Veterans
DESCRIPTION:Library Learning Commons \n\n        \n          \n  \n\n\n\n\n\n\n\n\n  \n  \n    \n                    \n          The Helen Diller Veteran Center brings together GGU Leadership\, Diller Center Leadership\, local Veteran Resource Coordinators (VRCs)\, 3 or 4 local veteran employers\, and members of the GGU alum community. \nThe event will include a meet-and-greet\, an employer panel\, and a happy hour for student veterans and GGU staff. Dr. Jason Dempsey\, Director of the Diller Center\, will moderate the event.
URL:https://ggu.edu/event/veteran-pathways-navigating-californias-employment-landscape-for-veterans/
CATEGORIES:Campus Week
ATTACH;FMTTYPE=image/png:https://ggu.edu/wp-content/uploads/2023/08/GGU_Web-Icons_Student-Club_v1_colored-247.png
END:VEVENT
BEGIN:VEVENT
DTSTART;TZID=America/Los_Angeles:20251118T170000
DTEND;TZID=America/Los_Angeles:20251118T180000
DTSTAMP:20260420T144921
CREATED:20251105T175805Z
LAST-MODIFIED:20251105T175914Z
UID:10000247-1763485200-1763488800@ggu.edu
SUMMARY:SGA Campus Connect
DESCRIPTION:Room 2203 \n\n        \n          \n  \n\n\n\n\n\n\n\n\n  \n  \n    \n                    \n          Connect with your SGA Officers and voice your concerns.
URL:https://ggu.edu/event/sga-campus-connect/
CATEGORIES:Campus Week
ATTACH;FMTTYPE=image/png:https://ggu.edu/wp-content/uploads/2023/08/GGU_Web-Icons_Networking_blue.png
END:VEVENT
BEGIN:VEVENT
DTSTART;TZID=America/Los_Angeles:20251118T150000
DTEND;TZID=America/Los_Angeles:20251118T170000
DTSTAMP:20260420T144921
CREATED:20251029T193309Z
LAST-MODIFIED:20251029T194519Z
UID:10000231-1763478000-1763485200@ggu.edu
SUMMARY:A Musical Presentation
DESCRIPTION:Rooms 4218/4222 \n\n        \n          \n  \n\n\n\n\n\n\n\n\n  \n  \n    \n                    \n          A musical performance by GGU students.
URL:https://ggu.edu/event/a-musical-presentation/
CATEGORIES:Campus Week
ATTACH;FMTTYPE=image/png:https://ggu.edu/wp-content/uploads/2023/08/GGU_Web-Icons_Student-Experience_colored.png
END:VEVENT
BEGIN:VEVENT
DTSTART;TZID=America/Los_Angeles:20251118T133000
DTEND;TZID=America/Los_Angeles:20251118T150000
DTSTAMP:20260420T144921
CREATED:20251029T193007Z
LAST-MODIFIED:20251029T193009Z
UID:10000230-1763472600-1763478000@ggu.edu
SUMMARY:Portfolio Builder: Showcase Your Skills the Right Way
DESCRIPTION:Room 2203 \n\n        \n          \n  \n\n\n\n\n\n\n\n\n  \n  \n    \n                    \n          Join industry experts for portfolio-building tips! Learn what hiring managers look for and leave with a working draft plus a template to complete later.
URL:https://ggu.edu/event/portfolio-builder-showcase-your-skills-the-right-way/
CATEGORIES:Campus Week
ATTACH;FMTTYPE=image/png:https://ggu.edu/wp-content/uploads/2023/08/GGU_Web-Icons_Business_colored.png
END:VEVENT
BEGIN:VEVENT
DTSTART;TZID=America/Los_Angeles:20251118T130000
DTEND;TZID=America/Los_Angeles:20251118T140000
DTSTAMP:20260420T144921
CREATED:20251029T192712Z
LAST-MODIFIED:20251029T192715Z
UID:10000229-1763470800-1763474400@ggu.edu
SUMMARY:From Surviving to Thriving — Understanding Organizational Culture
DESCRIPTION:Room 3201 \n\n        \n          \n  \n\n\n\n\n\n\n\n\n  \n  \n    \n                    \n          A workshop exploring how organizational culture is defined\, created\, and sustained—covering leadership roles\, cultural fit\, and the traits that distinguish strong cultures from weak ones.
URL:https://ggu.edu/event/from-surviving-to-thriving-understanding-organizational-culture/
CATEGORIES:Campus Week
ATTACH;FMTTYPE=image/png:https://ggu.edu/wp-content/uploads/2023/08/GGU_Web-Icons_Teacher-Presenting_colored.png
END:VEVENT
BEGIN:VEVENT
DTSTART;TZID=America/Los_Angeles:20251118T110000
DTEND;TZID=America/Los_Angeles:20251118T130000
DTSTAMP:20260420T144921
CREATED:20251029T192426Z
LAST-MODIFIED:20251105T171133Z
UID:10000228-1763463600-1763470800@ggu.edu
SUMMARY:AI Integration Discussion With Edvisor.ai
DESCRIPTION:Room 3208 \n\n        \n          \n  \n\n\n\n\n\n\n\n\n  \n  \n    \n                    \n          Join us for an interactive session on integrating AI into GGU’s eLearning platforms and exploring how AI solutions can shape the future of teaching and learning at our school.
URL:https://ggu.edu/event/ai-integration-discussion-with-edvisor-ai/
CATEGORIES:Campus Week
ATTACH;FMTTYPE=image/png:https://ggu.edu/wp-content/uploads/2023/08/GGU_Web-Icons_STEM_colored.png
END:VEVENT
BEGIN:VEVENT
DTSTART;TZID=America/Los_Angeles:20251118T100000
DTEND;TZID=America/Los_Angeles:20251118T100000
DTSTAMP:20260420T144921
CREATED:20250529T215512Z
LAST-MODIFIED:20251029T190543Z
UID:10000129-1763460000-1763460000@ggu.edu
SUMMARY:National Apple Cider Day
DESCRIPTION:2nd Floor Lounge \n\n        \n          \n  \n\n\n\n\n\n\n\n\n  \n  \n    \n                    \n          While supplies last. \nHot and cold apple cider sips for a truly Autumnal experience. Mmmmmm\, cozy. \n 
URL:https://ggu.edu/event/apple-cider-day/
CATEGORIES:Campus Week
ATTACH;FMTTYPE=image/png:https://ggu.edu/wp-content/uploads/2023/08/GGU_Web-Icons_Cafe_colored.png
END:VEVENT
BEGIN:VEVENT
DTSTART;TZID=America/Los_Angeles:20251117T150000
DTEND;TZID=America/Los_Angeles:20251117T170000
DTSTAMP:20260420T144921
CREATED:20251029T190907Z
LAST-MODIFIED:20251029T191050Z
UID:10000227-1763391600-1763398800@ggu.edu
SUMMARY:Community Meal
DESCRIPTION:4th Floor Lobby \n\n        \n          \n  \n\n\n\n\n\n\n\n\n  \n  \n    \n                    \n          Pizza Slice — Pick up a slice on your way to class.
URL:https://ggu.edu/event/community-meal-4/
CATEGORIES:Campus Week
ATTACH;FMTTYPE=image/png:https://ggu.edu/wp-content/uploads/2023/08/GGU_Web-Icons_Community-Events_v2_colored.png
END:VEVENT
BEGIN:VEVENT
DTSTART;TZID=America/Los_Angeles:20251117T140000
DTEND;TZID=America/Los_Angeles:20251117T150000
DTSTAMP:20260420T144921
CREATED:20251029T185105Z
LAST-MODIFIED:20251105T170936Z
UID:10000226-1763388000-1763391600@ggu.edu
SUMMARY:IIA Awareness Event
DESCRIPTION:Virtual Event | Join via Zoom \nZoom Meeting ID: 82481729157 \nPasscode: 8iF4x8 \n\n        \n          \n  \n\n\n\n\n\n\n\n\n  \n  \n    \n                    \n          The IIA Awareness Event connects students with industry professionals\, offering insights\, resources\, and career pathways in internal auditing while promoting ethics and professional growth.
URL:https://ggu.edu/event/iia-awareness-event/
CATEGORIES:Campus Week
ATTACH;FMTTYPE=image/png:https://ggu.edu/wp-content/uploads/2023/08/GGU_Web-Icons_Networking_orange.png
END:VEVENT
BEGIN:VEVENT
DTSTART;TZID=America/Los_Angeles:20251117T130000
DTEND;TZID=America/Los_Angeles:20251117T140000
DTSTAMP:20260420T144921
CREATED:20251029T184636Z
LAST-MODIFIED:20251029T184639Z
UID:10000225-1763384400-1763388000@ggu.edu
SUMMARY:Career Insights: From International Student to Industry Professional
DESCRIPTION:Room 3208 \n\n        \n          \n  \n\n\n\n\n\n\n\n\n  \n  \n    \n                    \n          Learn about Interstride\, a job board specifically for international students. We will demo its main features and a former GGU alum/international student will chat about their experience.
URL:https://ggu.edu/event/career-insights-from-international-student-to-industry-professional/
CATEGORIES:Campus Week
ATTACH;FMTTYPE=image/png:https://ggu.edu/wp-content/uploads/2023/08/GGU_Web-Icons_Industry-Professional_v2_colored.png
END:VEVENT
END:VCALENDAR