BEGIN:VCALENDAR
VERSION:2.0
PRODID:-//Golden Gate University - ECPv6.15.15//NONSGML v1.0//EN
CALSCALE:GREGORIAN
METHOD:PUBLISH
X-WR-CALNAME:Golden Gate University
X-ORIGINAL-URL:https://ggu.edu
X-WR-CALDESC:Events for Golden Gate University
REFRESH-INTERVAL;VALUE=DURATION:PT1H
X-Robots-Tag:noindex
X-PUBLISHED-TTL:PT1H
BEGIN:VTIMEZONE
TZID:America/Los_Angeles
BEGIN:DAYLIGHT
TZOFFSETFROM:-0800
TZOFFSETTO:-0700
TZNAME:PDT
DTSTART:20240310T100000
END:DAYLIGHT
BEGIN:STANDARD
TZOFFSETFROM:-0700
TZOFFSETTO:-0800
TZNAME:PST
DTSTART:20241103T090000
END:STANDARD
BEGIN:DAYLIGHT
TZOFFSETFROM:-0800
TZOFFSETTO:-0700
TZNAME:PDT
DTSTART:20250309T100000
END:DAYLIGHT
BEGIN:STANDARD
TZOFFSETFROM:-0700
TZOFFSETTO:-0800
TZNAME:PST
DTSTART:20251102T090000
END:STANDARD
BEGIN:DAYLIGHT
TZOFFSETFROM:-0800
TZOFFSETTO:-0700
TZNAME:PDT
DTSTART:20260308T100000
END:DAYLIGHT
BEGIN:STANDARD
TZOFFSETFROM:-0700
TZOFFSETTO:-0800
TZNAME:PST
DTSTART:20261101T090000
END:STANDARD
END:VTIMEZONE
BEGIN:VEVENT
DTSTART;TZID=America/Los_Angeles:20250401T120000
DTEND;TZID=America/Los_Angeles:20250401T123000
DTSTAMP:20260421T013553
CREATED:20250306T172659Z
LAST-MODIFIED:20250306T202701Z
UID:10000058-1743508800-1743510600@ggu.edu
SUMMARY:Info Session: Master of Law Studies
DESCRIPTION:Join us for a 30-minute information session on Golden Gate University’s Master of Law Studies in Law program.  \nThis session will provide an in-depth overview of the program\, including program overview\, learning outcomes\, and how this degree can enhance your career opportunities in law. We’ll also cover key details about tuition\, admission requirements\, and upcoming deadlines. \nThe program director will be present to offer insights and answer any questions you may have. Don’t miss this opportunity to discover how GGU can help you achieve your professional goals.
URL:https://ggu.edu/event/info-session-master-of-law-studies/
CATEGORIES:Info Session
ATTACH;FMTTYPE=image/png:https://ggu.edu/wp-content/uploads/2025/03/MLS.png
END:VEVENT
BEGIN:VEVENT
DTSTART;TZID=America/Los_Angeles:20250402T120000
DTEND;TZID=America/Los_Angeles:20250402T123000
DTSTAMP:20260421T013553
CREATED:20250306T172651Z
LAST-MODIFIED:20250306T202757Z
UID:10000059-1743595200-1743597000@ggu.edu
SUMMARY:Info Session: Bachelor's Degree Programs
DESCRIPTION:Join us for a 30-minute information session on Golden Gate University’s Bachelor’s Degree programs in accounting\, business\, management\, and psychology. \nThis session will provide an in-depth overview of the programs\, including program overview\, learning outcomes\, and how earning your bachelor’s degree can enhance your career opportunities. We’ll also cover key details about tuition\, admission requirements\, and upcoming deadlines. \nThe program director will be present to offer insights and answer any questions you may have. Don’t miss this opportunity to discover how GGU can help you achieve your professional goals.
URL:https://ggu.edu/event/info-session-bachelors-degree-programs/
CATEGORIES:Info Session
ATTACH;FMTTYPE=image/png:https://ggu.edu/wp-content/uploads/2025/03/Undergrad-Studies.png
END:VEVENT
END:VCALENDAR