BEGIN:VCALENDAR
VERSION:2.0
PRODID:-//Golden Gate University - ECPv6.15.15//NONSGML v1.0//EN
CALSCALE:GREGORIAN
METHOD:PUBLISH
X-ORIGINAL-URL:https://ggu.edu
X-WR-CALDESC:Events for Golden Gate University
REFRESH-INTERVAL;VALUE=DURATION:PT1H
X-Robots-Tag:noindex
X-PUBLISHED-TTL:PT1H
BEGIN:VTIMEZONE
TZID:America/Los_Angeles
BEGIN:DAYLIGHT
TZOFFSETFROM:-0800
TZOFFSETTO:-0700
TZNAME:PDT
DTSTART:20240310T100000
END:DAYLIGHT
BEGIN:STANDARD
TZOFFSETFROM:-0700
TZOFFSETTO:-0800
TZNAME:PST
DTSTART:20241103T090000
END:STANDARD
BEGIN:DAYLIGHT
TZOFFSETFROM:-0800
TZOFFSETTO:-0700
TZNAME:PDT
DTSTART:20250309T100000
END:DAYLIGHT
BEGIN:STANDARD
TZOFFSETFROM:-0700
TZOFFSETTO:-0800
TZNAME:PST
DTSTART:20251102T090000
END:STANDARD
BEGIN:DAYLIGHT
TZOFFSETFROM:-0800
TZOFFSETTO:-0700
TZNAME:PDT
DTSTART:20260308T100000
END:DAYLIGHT
BEGIN:STANDARD
TZOFFSETFROM:-0700
TZOFFSETTO:-0800
TZNAME:PST
DTSTART:20261101T090000
END:STANDARD
END:VTIMEZONE
BEGIN:VEVENT
DTSTART;TZID=America/Los_Angeles:20250317T120000
DTEND;TZID=America/Los_Angeles:20250317T123000
DTSTAMP:20260421T015148
CREATED:20250305T225049Z
LAST-MODIFIED:20250306T202157Z
UID:10000052-1742212800-1742214600@ggu.edu
SUMMARY:Info Session: MS in Marketing
DESCRIPTION:Join us for a 30-minute information session on Golden Gate University’s Master of Science in Marketing program. \nThis session will provide an in-depth overview of the program\, including program overview\, learning outcomes\, and how this degree can enhance your career opportunities in marketing. We’ll also cover key details about tuition\, admission requirements\, and upcoming deadlines. \nThe program director will be present to offer insights and answer any questions you may have. Don’t miss this opportunity to discover how GGU can help you achieve your professional goals in the marketing field!
URL:https://ggu.edu/event/info-session-ms-in-marketing/
CATEGORIES:Info Session
ATTACH;FMTTYPE=image/png:https://ggu.edu/wp-content/uploads/2025/03/MS-in-Marketing.png
END:VEVENT
BEGIN:VEVENT
DTSTART;TZID=America/Los_Angeles:20250319T120000
DTEND;TZID=America/Los_Angeles:20250319T123000
DTSTAMP:20260421T015149
CREATED:20250306T172741Z
LAST-MODIFIED:20250311T170309Z
UID:10000053-1742385600-1742387400@ggu.edu
SUMMARY:Info Session: Financial Planning Programs
DESCRIPTION:Join us for a 30-minute info session about Golden Gate University’s Financial Planning programs\, including the MS in Financial Planning\, MS in Advanced Financial Planning\, and Financial Planning Undergraduate and Graduate Certificates. \nThis session will provide an in-depth overview of each program\, including learning outcomes\, which program is right for you\, and how this degree can enhance your career opportunities in financial planning. We’ll also cover key details about tuition\, admission requirements\, and upcoming deadlines. \nThe program director will be present to offer insights and answer any questions you may have. Don’t miss this opportunity to discover how GGU can help you achieve your professional goals in financial planning field!
URL:https://ggu.edu/event/info-session-ms-in-financial-planning/
CATEGORIES:Info Session
ATTACH;FMTTYPE=image/png:https://ggu.edu/wp-content/uploads/2025/03/MS-Financial-Planning.png
END:VEVENT
BEGIN:VEVENT
DTSTART;TZID=America/Los_Angeles:20250324T120000
DTEND;TZID=America/Los_Angeles:20250324T123000
DTSTAMP:20260421T015149
CREATED:20250306T172732Z
LAST-MODIFIED:20250311T005555Z
UID:10000054-1742817600-1742819400@ggu.edu
SUMMARY:Info Session: MS in Finance Programs
DESCRIPTION:Join us for a 30-minute information session on Golden Gate University’s Master of Science in Finance programs\, including MS in Finance and MS in Financial Analytics.  \nThis session will provide an in-depth overview of the program\, including program highlights\, learning outcomes\, and how this degree can enhance your career opportunities in finance. We’ll also cover key details about tuition\, admission requirements\, and upcoming deadlines. \nThe program director will be present to offer insights and answer any questions you may have. Don’t miss this opportunity to discover how GGU can help you achieve your professional goals in the finance field.
URL:https://ggu.edu/event/info-session-ms-in-finance/
CATEGORIES:Info Session
ATTACH;FMTTYPE=image/png:https://ggu.edu/wp-content/uploads/2025/03/MS-in-Finance.png
END:VEVENT
BEGIN:VEVENT
DTSTART;TZID=America/Los_Angeles:20250325T120000
DTEND;TZID=America/Los_Angeles:20250325T123000
DTSTAMP:20260421T015149
CREATED:20250306T172715Z
LAST-MODIFIED:20250306T202016Z
UID:10000055-1742904000-1742905800@ggu.edu
SUMMARY:Info Session: MA in Counseling Psychology
DESCRIPTION:Join us for a 30-minute information session on Golden Gate University’s MA in Counseling Psychology program.  \nThis session will provide an in-depth overview of the program\, including program overview\, learning outcomes\, and how this degree can enhance your career opportunities in counseling psychology. We’ll also cover key details about tuition\, admission requirements\, and upcoming deadlines. \nThe program director will be present to offer insights and answer any questions you may have. Don’t miss this opportunity to discover how GGU can help you achieve your professional goals in the counseling psychology field.
URL:https://ggu.edu/event/info-session-ma-in-counseling-psychology/
CATEGORIES:Info Session
ATTACH;FMTTYPE=image/png:https://ggu.edu/wp-content/uploads/2025/03/MA-in-Counseling-Psychology.png
END:VEVENT
BEGIN:VEVENT
DTSTART;TZID=America/Los_Angeles:20250326T120000
DTEND;TZID=America/Los_Angeles:20250326T123000
DTSTAMP:20260421T015149
CREATED:20250306T172707Z
LAST-MODIFIED:20250306T202351Z
UID:10000056-1742990400-1742992200@ggu.edu
SUMMARY:Info Session: MS in Accounting Data and Analytics
DESCRIPTION:Join us for a 30-minute information session on Golden Gate University’s Master of Science in Accounting Data and Analytics.  \nThis session will provide an in-depth overview of the program\, including program overview\, learning outcomes\, and how this degree can enhance your career opportunities in accounting. We’ll also cover key details about tuition\, admission requirements\, and upcoming deadlines. \nThe program director will be present to offer insights and answer any questions you may have. Don’t miss this opportunity to discover how GGU can help you achieve your professional goals in the accounting field.
URL:https://ggu.edu/event/info-session-ms-in-accounting-data-and-analytics/
CATEGORIES:Info Session
ATTACH;FMTTYPE=image/png:https://ggu.edu/wp-content/uploads/2025/03/MS-Accounting-Data-and-Analytics.png
END:VEVENT
END:VCALENDAR