BEGIN:VCALENDAR
VERSION:2.0
PRODID:-//Golden Gate University - ECPv6.15.15//NONSGML v1.0//EN
CALSCALE:GREGORIAN
METHOD:PUBLISH
X-ORIGINAL-URL:https://ggu.edu
X-WR-CALDESC:Events for Golden Gate University
REFRESH-INTERVAL;VALUE=DURATION:PT1H
X-Robots-Tag:noindex
X-PUBLISHED-TTL:PT1H
BEGIN:VTIMEZONE
TZID:America/Los_Angeles
BEGIN:DAYLIGHT
TZOFFSETFROM:-0800
TZOFFSETTO:-0700
TZNAME:PDT
DTSTART:20250309T100000
END:DAYLIGHT
BEGIN:STANDARD
TZOFFSETFROM:-0700
TZOFFSETTO:-0800
TZNAME:PST
DTSTART:20251102T090000
END:STANDARD
BEGIN:DAYLIGHT
TZOFFSETFROM:-0800
TZOFFSETTO:-0700
TZNAME:PDT
DTSTART:20260308T100000
END:DAYLIGHT
BEGIN:STANDARD
TZOFFSETFROM:-0700
TZOFFSETTO:-0800
TZNAME:PST
DTSTART:20261101T090000
END:STANDARD
BEGIN:DAYLIGHT
TZOFFSETFROM:-0800
TZOFFSETTO:-0700
TZNAME:PDT
DTSTART:20270314T100000
END:DAYLIGHT
BEGIN:STANDARD
TZOFFSETFROM:-0700
TZOFFSETTO:-0800
TZNAME:PST
DTSTART:20271107T090000
END:STANDARD
END:VTIMEZONE
BEGIN:VEVENT
DTSTART;TZID=America/Los_Angeles:20260325T190000
DTEND;TZID=America/Los_Angeles:20260325T193000
DTSTAMP:20260423T074600
CREATED:20260303T222858Z
LAST-MODIFIED:20260303T222901Z
UID:10000273-1774465200-1774467000@ggu.edu
SUMMARY:Non-Science Careers in Biotechnology
DESCRIPTION:Event Location: 4227 \n\n        \n          \n  \n\n\n\n\n\n\n\n\n  \n  \n    \n                    \n          Meet professionals from the biotech industry to learn about diverse career paths beyond traditional science roles.
URL:https://ggu.edu/event/non-science-careers-in-biotechnology/
CATEGORIES:Campus Week March 2026
ATTACH;FMTTYPE=image/png:https://ggu.edu/wp-content/uploads/2023/08/GGU_Web-Icons_Campus-Events_v2_colored.png
END:VEVENT
BEGIN:VEVENT
DTSTART;TZID=America/Los_Angeles:20260326T090000
DTEND;TZID=America/Los_Angeles:20260326T100000
DTSTAMP:20260423T074601
CREATED:20260303T223023Z
LAST-MODIFIED:20260303T223025Z
UID:10000274-1774515600-1774519200@ggu.edu
SUMMARY:Crafting & Coffee
DESCRIPTION:Event Location: HUB \n\n        \n          \n  \n\n\n\n\n\n\n\n\n  \n  \n    \n                    \n          Grab a bite to eat before class and create a fiber craft.
URL:https://ggu.edu/event/crafting-coffee/
CATEGORIES:Campus Week March 2026
ATTACH;FMTTYPE=image/png:https://ggu.edu/wp-content/uploads/2023/08/GGU_Web-Icons_Campus-Events_v2_colored.png
END:VEVENT
BEGIN:VEVENT
DTSTART;TZID=America/Los_Angeles:20260326T100000
DTEND;TZID=America/Los_Angeles:20260326T110000
DTSTAMP:20260423T074601
CREATED:20260303T223146Z
LAST-MODIFIED:20260312T163607Z
UID:10000275-1774519200-1774522800@ggu.edu
SUMMARY:Digital Habits: Wellness & Belonging in a Digital World
DESCRIPTION:Event Location: 4209 \n\n        \n          \n  \n\n\n\n\n\n\n\n\n  \n  \n    \n                    \n          In a hybrid academic environment\, community does not happen automatically. Faculty teach across screens. Students build relationships through platforms. Staff collaborate across email\, chat\, and meetings.\nWithout intentional design\, digital environments can quietly erode. \n\nPresence\nEnergy\nPsychological Safety\nCommitment to Community\n\nBut when thoughtfully structured\, hybrid systems can expand inclusion\, flexibility\, and belonging. \nThis 60-minute interactive forum positions wellness not as self-care\, but as shared culture-building. It invites faculty\, staff\, and students to define what wellness and belonging should look like at GGU — and to leave with practical\, actionable inclusion strategies.
URL:https://ggu.edu/event/digital-habits/
CATEGORIES:Campus Week March 2026
ATTACH;FMTTYPE=image/png:https://ggu.edu/wp-content/uploads/2023/08/GGU_Web-Icons_Campus-Events_v2_colored.png
END:VEVENT
BEGIN:VEVENT
DTSTART;TZID=America/Los_Angeles:20260326T123000
DTEND;TZID=America/Los_Angeles:20260326T140000
DTSTAMP:20260423T074601
CREATED:20260303T223317Z
LAST-MODIFIED:20260303T223320Z
UID:10000276-1774528200-1774533600@ggu.edu
SUMMARY:Community Meal Pick Up - Burritos & Nachos
DESCRIPTION:Event Location: HUB \n\n        \n          \n  \n\n\n\n\n\n\n\n\n  \n  \n    \n                    \n          Grab a bite on your way to class.
URL:https://ggu.edu/event/community-meal-pick-up-burritos-nachos/
CATEGORIES:Campus Week March 2026
ATTACH;FMTTYPE=image/png:https://ggu.edu/wp-content/uploads/2023/08/GGU_Web-Icons_Campus-Events_v2_colored.png
END:VEVENT
BEGIN:VEVENT
DTSTART;TZID=America/Los_Angeles:20260326T170000
DTEND;TZID=America/Los_Angeles:20260326T180000
DTSTAMP:20260423T074601
CREATED:20260303T223443Z
LAST-MODIFIED:20260303T223446Z
UID:10000277-1774544400-1774548000@ggu.edu
SUMMARY:Community Meal Pick Up - Empanadas
DESCRIPTION:Event Location: 2nd Floor Lobby and 2314 \n\n        \n          \n  \n\n\n\n\n\n\n\n\n  \n  \n    \n                    \n          Grab a bite on your way to class.
URL:https://ggu.edu/event/community-meal-pick-up-empanadas/
CATEGORIES:Campus Week March 2026
ATTACH;FMTTYPE=image/png:https://ggu.edu/wp-content/uploads/2023/08/GGU_Web-Icons_Campus-Events_v2_colored.png
END:VEVENT
BEGIN:VEVENT
DTSTART;TZID=America/Los_Angeles:20260326T173000
DTEND;TZID=America/Los_Angeles:20260326T190000
DTSTAMP:20260423T074601
CREATED:20260303T223546Z
LAST-MODIFIED:20260303T223549Z
UID:10000278-1774546200-1774551600@ggu.edu
SUMMARY:Walking Tour
DESCRIPTION:Event Location: 1st Floor Lobby \n\n        \n          \n  \n\n\n\n\n\n\n\n\n  \n  \n    \n                    \n          Join us for an evening stroll as we close out this Campus Week.
URL:https://ggu.edu/event/walking-tour/
CATEGORIES:Campus Week March 2026
ATTACH;FMTTYPE=image/png:https://ggu.edu/wp-content/uploads/2023/08/GGU_Web-Icons_Campus-Events_v2_colored.png
END:VEVENT
END:VCALENDAR