BEGIN:VCALENDAR
VERSION:2.0
PRODID:-//Golden Gate University - ECPv6.15.15//NONSGML v1.0//EN
CALSCALE:GREGORIAN
METHOD:PUBLISH
X-WR-CALNAME:Golden Gate University
X-ORIGINAL-URL:https://ggu.edu
X-WR-CALDESC:Events for Golden Gate University
REFRESH-INTERVAL;VALUE=DURATION:PT1H
X-Robots-Tag:noindex
X-PUBLISHED-TTL:PT1H
BEGIN:VTIMEZONE
TZID:America/Los_Angeles
BEGIN:DAYLIGHT
TZOFFSETFROM:-0800
TZOFFSETTO:-0700
TZNAME:PDT
DTSTART:20240310T100000
END:DAYLIGHT
BEGIN:STANDARD
TZOFFSETFROM:-0700
TZOFFSETTO:-0800
TZNAME:PST
DTSTART:20241103T090000
END:STANDARD
BEGIN:DAYLIGHT
TZOFFSETFROM:-0800
TZOFFSETTO:-0700
TZNAME:PDT
DTSTART:20250309T100000
END:DAYLIGHT
BEGIN:STANDARD
TZOFFSETFROM:-0700
TZOFFSETTO:-0800
TZNAME:PST
DTSTART:20251102T090000
END:STANDARD
BEGIN:DAYLIGHT
TZOFFSETFROM:-0800
TZOFFSETTO:-0700
TZNAME:PDT
DTSTART:20260308T100000
END:DAYLIGHT
BEGIN:STANDARD
TZOFFSETFROM:-0700
TZOFFSETTO:-0800
TZNAME:PST
DTSTART:20261101T090000
END:STANDARD
END:VTIMEZONE
BEGIN:VEVENT
DTSTART;TZID=America/Los_Angeles:20250324T000000
DTEND;TZID=America/Los_Angeles:20250328T235959
DTSTAMP:20260421T030842
CREATED:20241209T205857Z
LAST-MODIFIED:20250115T225107Z
UID:10000005-1742774400-1743206399@ggu.edu
SUMMARY:Campus Week – March 2025
DESCRIPTION:Golden Gate University Campus Week events take place throughout the year. They are fun opportunities to meet other GGU students\, alumni\, and faculty. Each campus week offers a variety of events for the GGU community — past events have included picnics in the park\, health and wellness events\, coffee socials\, career panels\, and more.
URL:https://ggu.edu/event/campus-week/
CATEGORIES:Campus Week
ATTACH;FMTTYPE=image/png:https://ggu.edu/wp-content/uploads/2023/08/GGU_Web-Icons_Community-Events_v2_colored.png
END:VEVENT
BEGIN:VEVENT
DTSTART;TZID=America/Los_Angeles:20250324T120000
DTEND;TZID=America/Los_Angeles:20250324T131500
DTSTAMP:20260421T030843
CREATED:20250319T162914Z
LAST-MODIFIED:20250319T163046Z
UID:10000068-1742817600-1742822100@ggu.edu
SUMMARY:Mastering Startups & Pitching Success
DESCRIPTION:Room 2203 \n\n        \n          \n  \n\n\n\n\n\n\n\n\n  \n  \n    \n                    \n          Join us for an insightful session designed for aspiring entrepreneurs. We’ll break down the fundamentals of building a startup with our speaker – Aurick Sengupta\, Entrepreneur and Business Strategist.
URL:https://ggu.edu/event/mastering-startups-pitching-success/
CATEGORIES:Campus Week
ATTACH;FMTTYPE=image/png:https://ggu.edu/wp-content/uploads/2023/08/GGU_Web-Icons_STEM_colored.png
END:VEVENT
BEGIN:VEVENT
DTSTART;TZID=America/Los_Angeles:20250325T100000
DTEND;TZID=America/Los_Angeles:20250325T120000
DTSTAMP:20260421T030843
CREATED:20250312T210443Z
LAST-MODIFIED:20250312T210445Z
UID:10000065-1742896800-1742904000@ggu.edu
SUMMARY:Pool and Table Tennis Tournament
DESCRIPTION:Plaza Student Lounge \n\n        \n          \n  \n\n\n\n\n\n\n\n\n  \n  \n    \n                    \n          Pool and table tennis tournament! Sign up now to be part of this exciting game day.
URL:https://ggu.edu/event/pool-and-table-tennis-tournament/
CATEGORIES:Campus Week
ATTACH;FMTTYPE=image/png:https://ggu.edu/wp-content/uploads/2023/08/GGU_Web-Icons_Award-Trophy_Colored.png
END:VEVENT
BEGIN:VEVENT
DTSTART;TZID=America/Los_Angeles:20250325T120000
DTEND;TZID=America/Los_Angeles:20250325T130000
DTSTAMP:20260421T030843
CREATED:20250319T163637Z
LAST-MODIFIED:20250319T163639Z
UID:10000069-1742904000-1742907600@ggu.edu
SUMMARY:Building the Future of AI: Careers\, Skills\, Learning & Leadership in a Changing World
DESCRIPTION:Room 2203 \n\n        \n          \n  \n\n\n\n\n\n\n\n\n  \n  \n    \n                    \n          How can professionals\, students\, and leaders adapt\, thrive\, and lead in an AI-driven world? This panel will break down the question “What AI skills do you have and need?”—exploring the technical\, strategic\, and leadership skills that will define the future of work. Industry experts will share insights on how AI is shaping careers\, hiring\, and lifelong learning\, offering practical guidance for those entering the workforce\, advancing their careers\, or building future-ready teams.
URL:https://ggu.edu/event/building-the-future-of-ai/
CATEGORIES:Campus Week
ATTACH;FMTTYPE=image/png:https://ggu.edu/wp-content/uploads/2023/08/GGU_Web-Icons_Technology_colored.png
END:VEVENT
BEGIN:VEVENT
DTSTART;TZID=America/Los_Angeles:20250325T130000
DTEND;TZID=America/Los_Angeles:20250325T140000
DTSTAMP:20260421T030843
CREATED:20250312T163533Z
LAST-MODIFIED:20250312T212530Z
UID:10000060-1742907600-1742911200@ggu.edu
SUMMARY:Safety Awareness Zoom Presentation
DESCRIPTION:Virtual Event | Join via Zoom \n\n        \n          \n  \n\n\n\n\n\n\n  \n  \n    \n                    \n          A representative from the Office of the District Attorney\, San Francisco will share important information for victims of crime. The rep will share tips on what to do should you be victimized while in San Francisco. Please join us on Zoom.
URL:https://ggu.edu/event/safety-awareness-zoom-presentation/
CATEGORIES:Campus Week
ATTACH;FMTTYPE=image/png:https://ggu.edu/wp-content/uploads/2023/08/GGU_Web-Icons_Teacher-Presenting-Online_colored.png
END:VEVENT
BEGIN:VEVENT
DTSTART;TZID=America/Los_Angeles:20250325T130000
DTEND;TZID=America/Los_Angeles:20250325T140000
DTSTAMP:20260421T030843
CREATED:20250312T193241Z
LAST-MODIFIED:20250312T193242Z
UID:10000064-1742907600-1742911200@ggu.edu
SUMMARY:SFSPCA Therapy Dogs
DESCRIPTION:Location TBD \n\n        \n          \n  \n\n\n\n\n\n\n\n\n  \n  \n    \n                    \n          Join the SFSPCA therapy dogs to relieve some stress.
URL:https://ggu.edu/event/sfspca-therapy-dogs/
CATEGORIES:Campus Week
ATTACH;FMTTYPE=image/png:https://ggu.edu/wp-content/uploads/2023/08/GGU_Web-Icons_Community-Events_v1_colored.png
END:VEVENT
BEGIN:VEVENT
DTSTART;TZID=America/Los_Angeles:20250325T140000
DTEND;TZID=America/Los_Angeles:20250325T153000
DTSTAMP:20260421T030843
CREATED:20250305T191128Z
LAST-MODIFIED:20250319T164002Z
UID:10000037-1742911200-1742916600@ggu.edu
SUMMARY:Mock Interview: Preparation & Practice
DESCRIPTION:GGU Center \n\n        \n          \n  \n\n\n\n\n\n\n\n\n  \n  \n    \n                    \n          Hear tips from the career team on preparing for interviews\, watch an interview demonstration\, and then practice! Join us for a fun event to enhance your interviewing skills.
URL:https://ggu.edu/event/mock-interview/
CATEGORIES:Campus Week
ATTACH;FMTTYPE=image/png:https://ggu.edu/wp-content/uploads/2023/08/GGU_Web-Icons_Students-at-table_colored.png
END:VEVENT
BEGIN:VEVENT
DTSTART;TZID=America/Los_Angeles:20250325T160000
DTEND;TZID=America/Los_Angeles:20250325T173000
DTSTAMP:20260421T030843
CREATED:20250319T164454Z
LAST-MODIFIED:20250319T164456Z
UID:10000070-1742918400-1742923800@ggu.edu
SUMMARY:Install Your Own Private LLM and Talk to Your Data
DESCRIPTION:Room 3203 \n\n        \n          \n  \n\n\n\n\n\n\n\n\n  \n  \n    \n                    \n          Join us for a hands-on workshop where you’ll learn how to deploy your own private Large Language Model (LLM) and converse with your data in a whole new way!
URL:https://ggu.edu/event/install-your-own-private-llm-and-talk-to-your-data/
CATEGORIES:Campus Week
ATTACH;FMTTYPE=image/png:https://ggu.edu/wp-content/uploads/2023/08/GGU_Web-Icons_Worldwide-Network_blue.png
END:VEVENT
BEGIN:VEVENT
DTSTART;TZID=America/Los_Angeles:20250326T130000
DTEND;TZID=America/Los_Angeles:20250326T140000
DTSTAMP:20260421T030843
CREATED:20250312T164136Z
LAST-MODIFIED:20250312T164138Z
UID:10000061-1742994000-1742997600@ggu.edu
SUMMARY:A Walk in the Park!
DESCRIPTION:Meet in GGU Lobby \n\n        \n          \n  \n\n\n\n\n\n\n\n\n  \n  \n    \n                    \n          Join us for a walk at Salesforce Park (level 4) with our very own President Fike. This will be a great opportunity to get to know him and ask questions about his interests and hobbies. We will meet in our lobby at 1 pm and head over to the park at 1:05pm. See you soon!!!
URL:https://ggu.edu/event/a-walk-in-the-park/
CATEGORIES:Campus Week
ATTACH;FMTTYPE=image/png:https://ggu.edu/wp-content/uploads/2023/08/GGU_Web-Icons_Class-Size_colored.png
END:VEVENT
BEGIN:VEVENT
DTSTART;TZID=America/Los_Angeles:20250326T150000
DTEND;TZID=America/Los_Angeles:20250326T170000
DTSTAMP:20260421T030843
CREATED:20250312T164812Z
LAST-MODIFIED:20250312T165439Z
UID:10000062-1743001200-1743008400@ggu.edu
SUMMARY:Mentor Match
DESCRIPTION:GGU Center\, Rooms 6208 & 6209 \n\n        \n          \n  \n\n\n\n\n\n\n\n\n  \n  \n    \n                    \n          The International Student Club\, Project Management\, and Women in Tech have partnered to host a mentoring event\, offering students the opportunity to engage in 10-15 minute one-on-one sessions with professionals. This is a chance to gain career insights\, receive advice\, and build valuable connections for the future. Bring your questions!
URL:https://ggu.edu/event/mentor-match/
CATEGORIES:Campus Week
ATTACH;FMTTYPE=image/png:https://ggu.edu/wp-content/uploads/2023/08/GGU_Web-Icons_Student-Services_colored.png
END:VEVENT
BEGIN:VEVENT
DTSTART;TZID=America/Los_Angeles:20250326T160000
DTEND;TZID=America/Los_Angeles:20250326T170000
DTSTAMP:20260421T030843
CREATED:20250319T164918Z
LAST-MODIFIED:20250319T165045Z
UID:10000071-1743004800-1743008400@ggu.edu
SUMMARY:How Does a GGU Graduate Become a Senior VP in Any Field?
DESCRIPTION:Room 2203 & Virtual \n\n        \n          \n  \n\n\n\n\n\n\n\n\n  \n  \n    \n                    \n          GGU graduate Robert Tenerowicz talks on his experience as a an executive officer.
URL:https://ggu.edu/event/how-does-a-ggu-graduate-become-a-senior-vp-in-any-field/
CATEGORIES:Campus Week
ATTACH;FMTTYPE=image/png:https://ggu.edu/wp-content/uploads/2023/08/GGU_Web-Icons_Industry-Professional_v2_colored.png
END:VEVENT
BEGIN:VEVENT
DTSTART;TZID=America/Los_Angeles:20250327T110000
DTEND;TZID=America/Los_Angeles:20250327T120000
DTSTAMP:20260421T030843
CREATED:20250326T183201Z
LAST-MODIFIED:20250326T183219Z
UID:10000075-1743073200-1743076800@ggu.edu
SUMMARY:Pool and Table Tennis Tournament Finals
DESCRIPTION:Plaza Student Lounge \n\n        \n          \n  \n\n\n\n\n\n\n\n\n  \n  \n    \n                    \n          Pool and table tennis tournament finals! Sign up now to be part of this exciting game day.
URL:https://ggu.edu/event/pool-and-table-tennis-tournament-finals/
CATEGORIES:Campus Week
ATTACH;FMTTYPE=image/png:https://ggu.edu/wp-content/uploads/2023/08/GGU_Web-Icons_Award-Trophy_Colored.png
END:VEVENT
BEGIN:VEVENT
DTSTART;TZID=America/Los_Angeles:20250327T120000
DTEND;TZID=America/Los_Angeles:20250327T164500
DTSTAMP:20260421T030843
CREATED:20250312T165325Z
LAST-MODIFIED:20250312T165345Z
UID:10000063-1743076800-1743093900@ggu.edu
SUMMARY:Mid-Day Chair Massage!
DESCRIPTION:Room 4200 \n\n        \n          \n  \n\n\n\n\n\n\n\n\n  \n  \n    \n                    \n          Come and join us for a 10 minute chair massage! Lily Woo is back by popular demand and she will help you unwind through a magical massage. \n*Please send Melissa an email to confirm your time slot (melissamcnair@ggu.edu). \n**Due to the popularity of this event\, students will have first priority.
URL:https://ggu.edu/event/mid-day-chair-massage/
CATEGORIES:Campus Week
ATTACH;FMTTYPE=image/png:https://ggu.edu/wp-content/uploads/2023/08/GGU_Web-Icons_Campus-Events_v2_colored.png
END:VEVENT
BEGIN:VEVENT
DTSTART;TZID=America/Los_Angeles:20250327T150000
DTEND;TZID=America/Los_Angeles:20250327T163000
DTSTAMP:20260421T030843
CREATED:20250312T192344Z
LAST-MODIFIED:20250326T183426Z
UID:10000048-1743087600-1743093000@ggu.edu
SUMMARY:Info Session with PMI-SF
DESCRIPTION:Room 3201 \n\n        \n          \n  \n\n\n\n\n\n\n\n\n  \n  \n    \n                    \n          Meet with members of the PMI-SF organization and learn about their professional development opportunities.
URL:https://ggu.edu/event/info-session-with-pmi-sf/
CATEGORIES:Campus Week
ATTACH;FMTTYPE=image/png:https://ggu.edu/wp-content/uploads/2023/08/GGU_Web-Icons_Collaboration_colored.png
END:VEVENT
BEGIN:VEVENT
DTSTART;TZID=America/Los_Angeles:20250328T083000
DTEND;TZID=America/Los_Angeles:20250328T083000
DTSTAMP:20260421T030843
CREATED:20250319T165839Z
LAST-MODIFIED:20250319T165841Z
UID:10000072-1743150600-1743150600@ggu.edu
SUMMARY:DBA Symposium
DESCRIPTION:Virtual \n\n        \n          \n  \n\n\n\n\n\n\n\n\n  \n  \n    \n                    \n          This is to provide a venue for the promising ideas of our DBA learners and hone their presentation skills.
URL:https://ggu.edu/event/dba-symposium/
CATEGORIES:Campus Week
ATTACH;FMTTYPE=image/png:https://ggu.edu/wp-content/uploads/2023/08/GGU_Web-Icons_Teacher-Presenting_colored.png
END:VEVENT
BEGIN:VEVENT
DTSTART;TZID=America/Los_Angeles:20250328T133000
DTEND;TZID=America/Los_Angeles:20250328T150000
DTSTAMP:20260421T030843
CREATED:20250319T170806Z
LAST-MODIFIED:20250319T170808Z
UID:10000073-1743168600-1743174000@ggu.edu
SUMMARY:Revolutionizing Job Search: Insights from a Google Engineer and Founder
DESCRIPTION:Room 2203 \n\n        \n          \n  \n\n\n\n\n\n\n\n\n  \n  \n    \n                    \n          Join us for a talk with Monish Manohar\, GGU alumnus\, Google Engineer\, and JobsForce Founder\, as he shares insights on AI-driven job search and career growth. Networking & Q&A included!
URL:https://ggu.edu/event/revolutionizing-job-search/
CATEGORIES:Campus Week
ATTACH;FMTTYPE=image/png:https://ggu.edu/wp-content/uploads/2023/08/GGU_Web-Icons_On-Campus_v2_colored.png
END:VEVENT
BEGIN:VEVENT
DTSTART;TZID=America/Los_Angeles:20250328T150000
DTEND;TZID=America/Los_Angeles:20250328T160000
DTSTAMP:20260421T030843
CREATED:20250312T212235Z
LAST-MODIFIED:20250326T182731Z
UID:10000067-1743174000-1743177600@ggu.edu
SUMMARY:Campus Connect
DESCRIPTION:Room 2201 \n\n        \n          \n  \n\n\n\n\n\n\n\n\n  \n  \n    \n                    \n          Connect with your campus representatives\, voice your concerns\, enjoy some fellowship.
URL:https://ggu.edu/event/campus-connect/
CATEGORIES:Campus Week
ATTACH;FMTTYPE=image/png:https://ggu.edu/wp-content/uploads/2023/08/GGU_Web-Icons_Networking_orange.png
END:VEVENT
BEGIN:VEVENT
DTSTART;TZID=America/Los_Angeles:20250328T160000
DTEND;TZID=America/Los_Angeles:20250328T180000
DTSTAMP:20260421T030843
CREATED:20250312T211127Z
LAST-MODIFIED:20250320T172733Z
UID:10000066-1743177600-1743184800@ggu.edu
SUMMARY:SVA Virtual Vet Connect: Network & Game Night
DESCRIPTION:Virtual Event \n\n        \n          \n  \n\n\n\n\n\n\n\n\n  \n  \n    \n                    \n          Join us for a virtual meetup to connect with fellow student veterans\, network\, and enjoy a fun online game. Build connections and have a great time! \nUse this zoom link to join: https://ggu.zoom.us/s/98573501865
URL:https://ggu.edu/event/sva-virtual-vet-connect/
CATEGORIES:Campus Week
ATTACH;FMTTYPE=image/png:https://ggu.edu/wp-content/uploads/2023/08/GGU_Web-Icons_Zoom_colored.png
END:VEVENT
END:VCALENDAR